Workbook
Name CelkemDPHVypocet: Stavba!$H$44
Name CenaCelkem: Stavba!$G$29
Name CenaCelkemBezDPH: Stavba!$G$28
Name CenaCelkemVypocet: Stavba!$I$44
Name cisloobjektu: Stavba!$D$3
Name CisloRozpoctu: '[1]Krycí list'!$C$2
Name CisloStavby: Stavba!$D$2
Name cislostavby: '[1]Krycí list'!$A$7
Name CisloStavebnihoRozpoctu: Stavba!$D$4
Name dadresa: Stavba!$D$12:$G$12
Name DIČ: Stavba!$I$12
Name dmisto: Stavba!$E$13:$G$13
Name DPHSni: Stavba!$G$24
Name DPHZakl: Stavba!$G$26
Name dpsc: Stavba!$D$13
Name IČO: Stavba!$I$11
Name Mena: Stavba!$J$29
Name MistoStavby: Stavba!$D$4
Name nazevobjektu: Stavba!$E$3
Name NazevRozpoctu: '[1]Krycí list'!$D$2
Name NazevStavby: Stavba!$E$2
Name nazevstavby: '[1]Krycí list'!$C$7
Name NazevStavebnihoRozpoctu: Stavba!$E$4
Name oadresa: Stavba!$D$6
Name Objednatel: Stavba!$D$5
Name Objekt: Stavba!$B$38
Name odic: Stavba!$I$6
Name oico: Stavba!$I$5
Name omisto: Stavba!$E$7
Name onazev: Stavba!$D$6
Name opsc: Stavba!$D$7
Name padresa: Stavba!$D$9
Name pdic: Stavba!$I$9
Name pico: Stavba!$I$8
Name pmisto: Stavba!$E$10
Name PocetMJ: #REF!
Name PoptavkaID: Stavba!$A$1
Name pPSC: Stavba!$D$10
Name Projektant: Stavba!$D$8
Name SazbaDPH1: Stavba!$E$23
Name SazbaDPH1: '[1]Krycí list'!$C$30
Name SazbaDPH2: Stavba!$E$25
Name SazbaDPH2: '[1]Krycí list'!$C$32
Name SloupecCC: #REF!
Name SloupecCisloPol: #REF!
Name SloupecJC: #REF!
Name SloupecMJ: #REF!
Name SloupecMnozstvi: #REF!
Name SloupecNazPol: #REF!
Name SloupecPC: #REF!
Name Vypracoval: Stavba!$D$14
Name ZakladDPHSni: Stavba!$G$23
Name ZakladDPHSniVypocet: Stavba!$F$44
Name ZakladDPHZakl: Stavba!$G$25
Name ZakladDPHZaklVypocet: Stavba!$G$44
Name ZaObjednatele: Stavba!$G$34
Name Zaokrouhleni: Stavba!$G$27
Name ZaZhotovitele: Stavba!$D$34
Name Zhotovitel: Stavba!$D$11:$G$11

Sheet Pokyny pro vyplnění
A1: Pokyny pro vyplnění
A2: Ve všech listech tohoto souboru můžete měnit pouze buňky s modrým pozadím. Jedná se o tyto údaje : - údaje o firmě - jednotkové ceny položek zadané na maximálně dvě desetinná místa

Sheet Stavba
A1: #RTSROZP# | B1: Soupis stavebních prací, dodávek a služeb
B2: Stavba: | D2: 2019/16-2 | E2: Dílčí stav.úpravy v objektu gymnázia SO 01 - vnitřní úpravy
B5: Zadavatel | H5: IČO:
H6: DIČ:
B8: Projektant: | H8: IČO:
H9: DIČ:
B11: Zhotovitel: | H11: IČO:
H12: DIČ:
B14: Vypracoval:
B15: Rozpis ceny | I15: Celkem
A16: HSV | B16: HSV | I16: =SUMIF(F51:F69,A16,I51:I69)+SUMIF(F51:F69,"PSU",I51:I69) -> 0
A17: PSV | B17: PSV | I17: =SUMIF(F51:F69,A17,I51:I69) -> 0
A18: MON | B18: MON | I18: =SUMIF(F51:F69,A18,I51:I69) -> 0
A19: VN | B19: Vedlejší náklady | I19: =SUMIF(F51:F69,A19,I51:I69) -> 0
A20: ON | B20: Ostatní náklady | I20: =SUMIF(F51:F69,A20,I51:I69) -> 0
B21: Celkem | I21: =SUM(I16:J20) -> 0
B22: Rekapitulace daní
B23: Základ pro sníženou DPH | E23: 15 | F23: % | G23: =ZakladDPHSniVypocet -> 0 | J23: =Mena -> CZK
B24: Snížená DPH | E24: =SazbaDPH1 -> 15 | F24: % | G24: =I23*E23/100 -> 0 | J24: =Mena -> CZK
B25: Základ pro základní DPH | E25: 21 | F25: % | G25: =ZakladDPHZaklVypocet -> 0 | J25: =Mena -> CZK
B26: Základní DPH | E26: =SazbaDPH2 -> 21 | F26: % | G26: =I25*E25/100 -> 0 | J26: =Mena -> CZK
A27: =ZakladDPHSni+ZakladDPHZakl -> 0 | B27: Zaokrouhlení | G27: =CenaCelkemBezDPH-(ZakladDPHSni+ZakladDPHZakl) -> 0 | J27: =Mena -> CZK
A28: =(A27-INT(A27))*100 -> 0 | B28: Cena celkem bez DPH | G28: =IF(A28>50, ROUNDUP(A27, 0), ROUNDDOWN(A27, 0)) -> 0 | J28: =Mena -> CZK
B29: Cena celkem s DPH | G29: =ZakladDPHSni+DPHSni+ZakladDPHZakl+DPHZakl+Zaokrouhleni -> 0 | J29: CZK
C32: v | F32: dne | H32: =TODAY() -> 43614
D35: Za zhotovitele | H35: Za objednatele
B37: Rekapitulace dílčích částí
A38: #CASTI>> | B38: Číslo | C38: Název | F38: =B23 -> Základ pro sníženou DPH | G38: =B25 -> Základ pro základní DPH | H38: DPH celkem | I38: Cena celkem | J38: %
A39: 1 | B39: Stavba | F39: ='01 1 Pol'!AE131+'01 2 Pol'!AE28+'01 3. Pol'!AE77 -> 0 | G39: ='01 1 Pol'!AF131+'01 2 Pol'!AF28+'01 3. Pol'!AF77 -> 0 | I39: =F39+G39+H39 -> 0 | J39: =IF(CenaCelkemVypocet=0,"",I39/CenaCelkemVypocet*100)
A40: 2 | B40: 01 | C40: SO 01 OBJEKT GYMNÁZIA | F40: ='01 1 Pol'!AE131+'01 2 Pol'!AE28+'01 3. Pol'!AE77 -> 0 | G40: ='01 1 Pol'!AF131+'01 2 Pol'!AF28+'01 3. Pol'!AF77 -> 0 | I40: =F40+G40+H40 -> 0 | J40: =IF(CenaCelkemVypocet=0,"",I40/CenaCelkemVypocet*100)
A41: 3 | B41: 1 | C41: šatna jih,posilovna,šatna sever,chodba,nářaďovna,atrium jih | F41: ='01 1 Pol'!AE131 -> 0 | G41: ='01 1 Pol'!AF131 -> 0 | I41: =F41+G41+H41 -> 0 | J41: =IF(CenaCelkemVypocet=0,"",I41/CenaCelkemVypocet*100)
A42: 3 | B42: 2 | C42: nářaďovna ,ATRIUM JIH nad nářaďovnou | F42: ='01 2 Pol'!AE28 -> 0 | G42: ='01 2 Pol'!AF28 -> 0 | I42: =F42+G42+H42 -> 0 | J42: =IF(CenaCelkemVypocet=0,"",I42/CenaCelkemVypocet*100)
A43: 3 | B43: 3. | C43: vnější sanace obvodového zdiva - východ | F43: ='01 3. Pol'!AE77 -> 0 | G43: ='01 3. Pol'!AF77 -> 0 | I43: =F43+G43+H43 -> 0 | J43: =IF(CenaCelkemVypocet=0,"",I43/CenaCelkemVypocet*100)
B44: Celkem za stavbu | F44: =SUMIF(A39:A43,"=1",F39:F43) -> 0 | G44: =SUMIF(A39:A43,"=1",G39:G43) -> 0 | H44: =SUMIF(A39:A43,"=1",H39:H43) -> 0 | I44: =SUMIF(A39:A43,"=1",I39:I43) -> 0 | J44: =SUMIF(A39:A43,"=1",J39:J43) -> 0
B48: Rekapitulace dílů
B50: Číslo | C50: Název | F50: Typ dílu | I50: Celkem | J50: %
B51: 1 | C51: Zemní práce | F51: HSV | I51: ='01 3. Pol'!G8 -> 0 | J51: =IF(I70=0,"",I51/I70*100)
B52: 2 | C52: Základy a zvláštní zakládání | F52: HSV | I52: ='01 3. Pol'!G36 -> 0 | J52: =IF(I70=0,"",I52/I70*100)
B53: 3 | C53: Svislé a kompletní konstrukce | F53: HSV | I53: ='01 3. Pol'!G48 -> 0 | J53: =IF(I70=0,"",I53/I70*100)
B54: 5 | C54: Komunikace | F54: HSV | I54: ='01 3. Pol'!G56 -> 0 | J54: =IF(I70=0,"",I54/I70*100)
B55: 6 | C55: Úpravy povrchu, podlahy | F55: HSV | I55: ='01 1 Pol'!G38 -> 0 | J55: =IF(I70=0,"",I55/I70*100)
B56: 61 | C56: Úpravy povrchů vnitřní | F56: HSV | I56: ='01 1 Pol'!G43 -> 0 | J56: =IF(I70=0,"",I56/I70*100)
B57: 63 | C57: Podlahy a podlahové konstrukce | F57: HSV | I57: ='01 2 Pol'!G8 -> 0 | J57: =IF(I70=0,"",I57/I70*100)
B58: 94 | C58: Lešení a stavební výtahy | F58: HSV | I58: ='01 1 Pol'!G65 -> 0 | J58: =IF(I70=0,"",I58/I70*100)
B59: 96 | C59: Bourání konstrukcí | F59: HSV | I59: ='01 1 Pol'!G8+'01 1 Pol'!G22 -> 0 | J59: =IF(I70=0,"",I59/I70*100)
B60: 99 | C60: Staveništní přesun hmot | F60: HSV | I60: ='01 1 Pol'!G72 -> 0 | J60: =IF(I70=0,"",I60/I70*100)
B61: F0851 | C61: Elektroinstalace | F61: HSV | I61: ='01 1 Pol'!G19 -> 0 | J61: =IF(I70=0,"",I61/I70*100)
B62: 711 | C62: Izolace proti vodě | F62: PSV | I62: ='01 3. Pol'!G67 -> 0 | J62: =IF(I70=0,"",I62/I70*100)
B63: 720 | C63: Zdravotechnická instalace | F63: PSV | I63: ='01 1 Pol'!G76 -> 0 | J63: =IF(I70=0,"",I63/I70*100)
B64: 721 | C64: Vnitřní kanalizace | F64: PSV | I64: ='01 2 Pol'!G15 -> 0 | J64: =IF(I70=0,"",I64/I70*100)
B65: 771 | C65: Podlahy z dlaždic a obklady | F65: PSV | I65: ='01 1 Pol'!G95 -> 0 | J65: =IF(I70=0,"",I65/I70*100)
B66: 777 | C66: Podlahy ze syntetických hmot | F66: PSV | I66: ='01 1 Pol'!G87 -> 0 | J66: =IF(I70=0,"",I66/I70*100)
B67: 784 | C67: Malby | F67: PSV | I67: ='01 1 Pol'!G114 -> 0 | J67: =IF(I70=0,"",I67/I70*100)
B68: D96 | C68: Přesuny suti a vybouraných hmot | F68: PSU | I68: ='01 1 Pol'!G26 -> 0 | J68: =IF(I70=0,"",I68/I70*100)
B69: VN | C69: Vedlejší náklady | F69: VN | I69: ='01 3. Pol'!G72 -> 0 | J69: =IF(I70=0,"",I69/I70*100)
B70: Cena celkem | I70: =SUM(I51:I69) -> 0 | J70: =SUM(J51:J69) -> 0

Sheet VzorPolozky
A1: Položkový rozpočet
A2: S:
A3: O:
A4: R:

Sheet 01 1 Pol
A1: Položkový soupis prací a dodávek | AG1: #TypZaznamu#
A2: S: | B2: 2019/16-2 | C2: Dílčí stav.úpravy v objektu gymnázia SO 01 - vnitřní úpravy | AG2: STA
A3: O: | B3: 01 | C3: SO 01 OBJEKT GYMNÁZIA | AC3: STA | AG3: OBJ
A4: R: | B4: 1 | C4: šatna jih,posilovna,šatna sever,chodba,nářaďovna,atrium jih | AG4: ROZ
A6: P.č. | B6: Číslo položky | C6: Název položky | D6: MJ | E6: Množství | F6: Cena / MJ | G6: Celkem | H6: Dodávka | I6: Dodávka celk. | J6: Montáž | K6: Montáž celk. | L6: DPH | M6: Cena s DPH | N6: Hmotnost / MJ | O6: Hmotnost celk.(t) | P6: Dem. hmotnost / MJ | Q6: Dem. hmotnost celk.(t) | R6: Ceník | S6: Cen. soustava / platnost | T6: Cenová úroveň | U6: Nhod / MJ | V6: Nhod celk. | W6: Dodavatel | X6: Typ položky
A8: Díl: | B8: 96 | C8: Bourání konstrukcí | G8: =SUMIF(AG9:AG18,"<>NOR",G9:G18) -> 0 | I8: =SUM(I9:I18) -> 0 | K8: =SUM(K9:K18) -> 0 | M8: =SUM(M9:M18) -> 0 | O8: =SUM(O9:O18) -> 0 | Q8: =SUM(Q9:Q18) -> 20.57 | V8: =SUM(V9:V18) -> 69.74 | AG8: DIL
A9: 1 | B9: 978015291R00 | C9: Otlučení omítek vápenných nebo vápenocementových vnějších s vyškrabáním spár, s očištěním zdiva_x000D_ 1. až 4. stupni složitosti, v rozsahu do 100 % | D9: m2 | E9: 348.716 | G9: =ROUND(E9*F9,2) -> 0 | I9: =ROUND(E9*H9,2) -> 0 | K9: =ROUND(E9*J9,2) -> 0 | L9: 21 | M9: =G9*(1+L9/100) -> 0 | N9: 0 | O9: =ROUND(E9*N9,2) -> 0 | P9: 0.059 | Q9: =ROUND(E9*P9,2) -> 20.57 | R9: 801-3 | S9: RTS 19/ I | T9: Indiv | U9: 0.2 | V9: =ROUND(E9*U9,2) -> 69.74 | X9: Práce | AG9: POL1_
C10: šatna jih : 71,7*2,5 | E10: 179.25 | AG10: VV | AH10: 0
C11: šatna jih : -(0,97*0,76)*7 | E11: -5.1604 | AG11: VV | AH11: 0
C12: šatna jih : -1,29*2,14 | E12: -2.7606 | AG12: VV | AH12: 0
C13: posilovna : 31,48*2,5 | E13: 78.7 | AG13: VV | AH13: 0
C14: posilovna : -(0,95*0,76)*2 | E14: -1.444 | AG14: VV | AH14: 0
C15: posilovna : -0,9*1,97 | E15: -1.773 | AG15: VV | AH15: 0
C16: šatna sever : 42,18*2,5 | E16: 105.45 | AG16: VV | AH16: 0
C17: šatna sever : -(0,9*1,97)*2 | E17: -3.546 | AG17: VV | AH17: 0
AG18: SPU
A19: Díl: | B19: F0851 | C19: Elektroinstalace | G19: =SUMIF(AG20:AG21,"<>NOR",G20:G21) -> 0 | I19: =SUM(I20:I21) -> 0 | K19: =SUM(K20:K21) -> 0 | M19: =SUM(M20:M21) -> 0 | O19: =SUM(O20:O21) -> 0 | Q19: =SUM(Q20:Q21) -> 0 | V19: =SUM(V20:V21) -> 0 | AG19: DIL
A20: 2 | B20: 1 | C20: elektroinstalace KOMPLET Silnoproud+Slaboproud vč.zemních prací - VIZ.SAMOSTATNÝ VÝKAZ VÝMĚR | D20: kompl | E20: 1 | G20: =ROUND(E20*F20,2) -> 0 | I20: =ROUND(E20*H20,2) -> 0 | K20: =ROUND(E20*J20,2) -> 0 | L20: 21 | M20: =G20*(1+L20/100) -> 0 | N20: 0 | O20: =ROUND(E20*N20,2) -> 0 | P20: 0 | Q20: =ROUND(E20*P20,2) -> 0 | S20: Vlastní | T20: Indiv | U20: 0 | V20: =ROUND(E20*U20,2) -> 0 | X20: Práce | AG20: POL1_
AG21: SPU
A22: Díl: | B22: 96 | C22: Bourání konstrukcí | G22: =SUMIF(AG23:AG25,"<>NOR",G23:G25) -> 0 | I22: =SUM(I23:I25) -> 0 | K22: =SUM(K23:K25) -> 0 | M22: =SUM(M23:M25) -> 0 | O22: =SUM(O23:O25) -> 0 | Q22: =SUM(Q23:Q25) -> 0.13 | V22: =SUM(V23:V25) -> 1.66 | AG22: DIL
A23: 3 | B23: 968072455R00 | C23: Vybourání a vyjmutí kovových rámů a rolet rámů, včetně pomocného lešení o výšce podlahy do 1900 mm a pro zatížení do 1,5 kPa (150 kg/m2) dveřních zárubní, plochy do 2 m2 | D23: m2 | E23: 1.773 | G23: =ROUND(E23*F23,2) -> 0 | I23: =ROUND(E23*H23,2) -> 0 | K23: =ROUND(E23*J23,2) -> 0 | L23: 21 | M23: =G23*(1+L23/100) -> 0 | N23: 0.00117 | O23: =ROUND(E23*N23,2) -> 0 | P23: 0.076 | Q23: =ROUND(E23*P23,2) -> 0.13 | R23: 801-3 | S23: RTS 19/ I | T23: Kalkul | U23: 0.939 | V23: =ROUND(E23*U23,2) -> 1.66 | X23: Práce | AG23: POL1_
C24: 0,9*1,97 | E24: 1.773 | AG24: VV | AH24: 0
AG25: SPU
A26: Díl: | B26: D96 | C26: Přesuny suti a vybouraných hmot | G26: =SUMIF(AG27:AG37,"<>NOR",G27:G37) -> 0 | I26: =SUM(I27:I37) -> 0 | K26: =SUM(K27:K37) -> 0 | M26: =SUM(M27:M37) -> 0 | O26: =SUM(O27:O37) -> 0 | Q26: =SUM(Q27:Q37) -> 0 | V26: =SUM(V27:V37) -> 51.75 | AG26: DIL
A27: 4 | B27: 979082111R00 | C27: Vnitrostaveništní doprava suti a vybouraných hmot do 10 m | D27: t | E27: 20.84836 | G27: =ROUND(E27*F27,2) -> 0 | I27: =ROUND(E27*H27,2) -> 0 | K27: =ROUND(E27*J27,2) -> 0 | L27: 21 | M27: =G27*(1+L27/100) -> 0 | N27: 0 | O27: =ROUND(E27*N27,2) -> 0 | P27: 0 | Q27: =ROUND(E27*P27,2) -> 0 | R27: 801-3 | S27: RTS 19/ I | T27: Kalkul | U27: 0.942 | V27: =ROUND(E27*U27,2) -> 19.64 | X27: Práce | AG27: POL1_
AG28: SPU
A29: 5 | B29: 979082121R00 | C29: Vnitrostaveništní doprava suti a vybouraných hmot Příplatek k vnitrost. dopravě suti za dalších 5 m | D29: t | E29: 208.4836 | G29: =ROUND(E29*F29,2) -> 0 | I29: =ROUND(E29*H29,2) -> 0 | K29: =ROUND(E29*J29,2) -> 0 | L29: 21 | M29: =G29*(1+L29/100) -> 0 | N29: 0 | O29: =ROUND(E29*N29,2) -> 0 | P29: 0 | Q29: =ROUND(E29*P29,2) -> 0 | R29: 801-3 | S29: RTS 19/ I | T29: Kalkul | U29: 0.105 | V29: =ROUND(E29*U29,2) -> 21.89 | X29: Práce | AG29: POL1_
AG30: SPU
A31: 6 | B31: 979081111R00 | C31: Odvoz suti a vybouraných hmot na skládku do 1 km | D31: t | E31: 20.84836 | G31: =ROUND(E31*F31,2) -> 0 | I31: =ROUND(E31*H31,2) -> 0 | K31: =ROUND(E31*J31,2) -> 0 | L31: 21 | M31: =G31*(1+L31/100) -> 0 | N31: 0 | O31: =ROUND(E31*N31,2) -> 0 | P31: 0 | Q31: =ROUND(E31*P31,2) -> 0 | R31: 801-3 | S31: RTS 19/ I | T31: Kalkul | U31: 0.49 | V31: =ROUND(E31*U31,2) -> 10.22 | X31: Přesun suti | AG31: POL8_
C32: Včetně naložení na dopravní prostředek a složení na skládku, bez poplatku za skládku. | AG32: POP
AG33: SPU
A34: 7 | B34: 979081121R00 | C34: Odvoz suti a vybouraných hmot na skládku Příplatek k odvozu za každý další 1 km | D34: t | E34: 208.4836 | G34: =ROUND(E34*F34,2) -> 0 | I34: =ROUND(E34*H34,2) -> 0 | K34: =ROUND(E34*J34,2) -> 0 | L34: 21 | M34: =G34*(1+L34/100) -> 0 | N34: 0 | O34: =ROUND(E34*N34,2) -> 0 | P34: 0 | Q34: =ROUND(E34*P34,2) -> 0 | R34: 801-3 | S34: RTS 19/ I | T34: Kalkul | U34: 0 | V34: =ROUND(E34*U34,2) -> 0 | X34: Práce | AG34: POL1_
AG35: SPU
A36: 8 | B36: 979990001R00 | C36: Poplatek za skládku stavební suti | D36: t | E36: 20.84836 | G36: =ROUND(E36*F36,2) -> 0 | I36: =ROUND(E36*H36,2) -> 0 | K36: =ROUND(E36*J36,2) -> 0 | L36: 21 | M36: =G36*(1+L36/100) -> 0 | N36: 0 | O36: =ROUND(E36*N36,2) -> 0 | P36: 0 | Q36: =ROUND(E36*P36,2) -> 0 | R36: 801-3 | S36: RTS 19/ I | T36: Kalkul | U36: 0 | V36: =ROUND(E36*U36,2) -> 0 | X36: Práce | AG36: POL1_
AG37: SPU
A38: Díl: | B38: 6 | C38: Úpravy povrchu, podlahy | G38: =SUMIF(AG39:AG42,"<>NOR",G39:G42) -> 0 | I38: =SUM(I39:I42) -> 0 | K38: =SUM(K39:K42) -> 0 | M38: =SUM(M39:M42) -> 0 | O38: =SUM(O39:O42) -> 0.02 | Q38: =SUM(Q39:Q42) -> 0 | V38: =SUM(V39:V42) -> 7.32 | AG38: DIL
A39: 9 | B39: 602022191R00 | C39: Omítka stěn z hotových směsí Doplňkové práce pro omítky stěn z hotových směsí_x000D_ nátěr penetrační, kontaktní, s granulátem | D39: m2 | E39: 104.6148 | G39: =ROUND(E39*F39,2) -> 0 | I39: =ROUND(E39*H39,2) -> 0 | K39: =ROUND(E39*J39,2) -> 0 | L39: 21 | M39: =G39*(1+L39/100) -> 0 | N39: 0.00023 | O39: =ROUND(E39*N39,2) -> 0.02 | P39: 0 | Q39: =ROUND(E39*P39,2) -> 0 | R39: 801-1 | S39: RTS 19/ I | T39: Kalkul | U39: 0.07 | V39: =ROUND(E39*U39,2) -> 7.32 | X39: Práce | AG39: POL1_
C40: po jednotlivých vrstvách | AG40: SPI
C41: 348,716*0,3 | E41: 104.6148 | AG41: VV | AH41: 0
AG42: SPU
A43: Díl: | B43: 61 | C43: Úpravy povrchů vnitřní | G43: =SUMIF(AG44:AG64,"<>NOR",G44:G64) -> 0 | I43: =SUM(I44:I64) -> 0 | K43: =SUM(K44:K64) -> 0 | M43: =SUM(M44:M64) -> 0 | O43: =SUM(O44:O64) -> 5.76 | Q43: =SUM(Q44:Q64) -> 0 | V43: =SUM(V44:V64) -> 206.32 | AG43: DIL
A44: 10 | B44: 610991111R00 | C44: Zakrývání výplní vnitřních otvorů, předmětů apod. fólií Pe 0,05-0,2 mm | D44: m2 | E44: 14.684 | G44: =ROUND(E44*F44,2) -> 0 | I44: =ROUND(E44*H44,2) -> 0 | K44: =ROUND(E44*J44,2) -> 0 | L44: 21 | M44: =G44*(1+L44/100) -> 0 | N44: 8e-05 | O44: =ROUND(E44*N44,2) -> 0 | P44: 0 | Q44: =ROUND(E44*P44,2) -> 0 | R44: 801-1 | S44: RTS 19/ I | T44: Indiv | U44: 0.078 | V44: =ROUND(E44*U44,2) -> 1.15 | X44: Práce | AG44: POL1_1
C45: které se zřizují před úpravami povrchu, a obalení osazených dveřních zárubní před znečištěním při úpravách povrchu nástřikem plastických maltovin včetně pozdějšího odkrytí, | AG45: SPI | BA45: =C45 -> které se zřizují před úpravami povrchu, a obalení osazených dveřních zárubní před znečištěním při úpravách povrchu nástřikem plastických maltovin včetně pozdějšího odkrytí,
C46: šatna jih : (0,97*0,76)*7 | E46: 5.1604 | AG46: VV | AH46: 0
C47: šatna jih : 1,29*2,14 | E47: 2.7606 | AG47: VV | AH47: 0
C48: posilovna : (0,95*0,76)*2 | E48: 1.444 | AG48: VV | AH48: 0
C49: posilovna : 0,9*1,97 | E49: 1.773 | AG49: VV | AH49: 0
C50: šatna sever : (0,9*1,97)*2 | E50: 3.546 | AG50: VV | AH50: 0
AG51: SPU
A52: 11 | B52: 612409991R00 | C52: Začištění omítek kolem oken, dveří a obkladů apod. maltou vápenou | D52: m | E52: 5 | G52: =ROUND(E52*F52,2) -> 0 | I52: =ROUND(E52*H52,2) -> 0 | K52: =ROUND(E52*J52,2) -> 0 | L52: 21 | M52: =G52*(1+L52/100) -> 0 | N52: 0.00431 | O52: =ROUND(E52*N52,2) -> 0.02 | P52: 0 | Q52: =ROUND(E52*P52,2) -> 0 | R52: 801-4 | S52: RTS 19/ I | T52: Indiv | U52: 0.1818 | V52: =ROUND(E52*U52,2) -> 0.91 | X52: Práce | AG52: POL1_
AG53: SPU
A54: 12 | B54: 612421431RT2 | C54: Oprava vnitřních vápenných omítek stěn v množství opravované plochy přes 30 do 50 %, štukových | D54: m2 | E54: 348.716 | G54: =ROUND(E54*F54,2) -> 0 | I54: =ROUND(E54*H54,2) -> 0 | K54: =ROUND(E54*J54,2) -> 0 | L54: 21 | M54: =G54*(1+L54/100) -> 0 | N54: 0.01646 | O54: =ROUND(E54*N54,2) -> 5.74 | P54: 0 | Q54: =ROUND(E54*P54,2) -> 0 | R54: 801-4 | S54: RTS 19/ I | T54: Kalkul | U54: 0.58575 | V54: =ROUND(E54*U54,2) -> 204.26 | X54: Práce | AG54: POL1_
C55: Včetně pomocného pracovního lešení o výšce podlahy do 1900 mm a pro zatížení do 1,5 kPa. | AG55: POP
C56: šatna jih : 71,7*2,5 | E56: 179.25 | AG56: VV | AH56: 0
C57: šatna jih : -(0,97*0,76)*7 | E57: -5.1604 | AG57: VV | AH57: 0
C58: šatna jih : -1,29*2,14 | E58: -2.7606 | AG58: VV | AH58: 0
C59: posilovna : 31,48*2,5 | E59: 78.7 | AG59: VV | AH59: 0
C60: posilovna : -(0,95*0,76)*2 | E60: -1.444 | AG60: VV | AH60: 0
C61: posilovna : -0,9*1,97 | E61: -1.773 | AG61: VV | AH61: 0
C62: šatna sever : 42,18*2,5 | E62: 105.45 | AG62: VV | AH62: 0
C63: šatna sever : -(0,9*1,97)*2 | E63: -3.546 | AG63: VV | AH63: 0
AG64: SPU
A65: Díl: | B65: 94 | C65: Lešení a stavební výtahy | G65: =SUMIF(AG66:AG71,"<>NOR",G66:G71) -> 0 | I65: =SUM(I66:I71) -> 0 | K65: =SUM(K66:K71) -> 0 | M65: =SUM(M66:M71) -> 0 | O65: =SUM(O66:O71) -> 2.38 | Q65: =SUM(Q66:Q71) -> 0 | V65: =SUM(V66:V71) -> 104.51 | AG65: DIL
A66: 13 | B66: 941955004R00 | C66: Lešení lehké pracovní pomocné pomocné, o výšce lešeňové podlahy přes 2,5 do 3,5 m | D66: m2 | E66: 401.95 | G66: =ROUND(E66*F66,2) -> 0 | I66: =ROUND(E66*H66,2) -> 0 | K66: =ROUND(E66*J66,2) -> 0 | L66: 21 | M66: =G66*(1+L66/100) -> 0 | N66: 0.00592 | O66: =ROUND(E66*N66,2) -> 2.38 | P66: 0 | Q66: =ROUND(E66*P66,2) -> 0 | R66: 800-3 | S66: RTS 19/ I | T66: Indiv | U66: 0.26 | V66: =ROUND(E66*U66,2) -> 104.51 | X66: Práce | AG66: POL1_
C67: č.v.D.1.1.13-15. : | AG67: VV | AH67: 0
C68: 1.NP : 3,3*4,8+18,8*2,6+3,26+1,08+1,24*5+1,7*1,5+1,5*1,1 | E68: 79.46 | AG68: VV | AH68: 0
C69: 2.NP : 5,3*3,3+39,02+38,47+1,08+1,24*5+3,26 | E69: 105.52 | AG69: VV | AH69: 0
C70: 3.NP : 2,7*19+24*2,7+2,08+2,22+1,24*5+2,44+15,38+17,73+54,82 | E70: 216.97 | AG70: VV | AH70: 0
AG71: SPU
A72: Díl: | B72: 99 | C72: Staveništní přesun hmot | G72: =SUMIF(AG73:AG75,"<>NOR",G73:G75) -> 0 | I72: =SUM(I73:I75) -> 0 | K72: =SUM(K73:K75) -> 0 | M72: =SUM(M73:M75) -> 0 | O72: =SUM(O73:O75) -> 0 | Q72: =SUM(Q73:Q75) -> 0 | V72: =SUM(V73:V75) -> 21.05 | AG72: DIL
A73: 14 | B73: 999281111R00 | C73: Přesun hmot pro opravy a údržbu objektů pro opravy a údržbu dosavadních objektů včetně vnějších plášťů_x000D_ výšky do 25 m, | D73: t | E73: 8.16827 | G73: =ROUND(E73*F73,2) -> 0 | I73: =ROUND(E73*H73,2) -> 0 | K73: =ROUND(E73*J73,2) -> 0 | L73: 21 | M73: =G73*(1+L73/100) -> 0 | N73: 0 | O73: =ROUND(E73*N73,2) -> 0 | P73: 0 | Q73: =ROUND(E73*P73,2) -> 0 | R73: 801-4 | S73: RTS 19/ I | T73: Kalkul | U73: 2.577 | V73: =ROUND(E73*U73,2) -> 21.05 | X73: Přesun hmot | AG73: POL7_
C74: oborů 801, 803, 811 a 812 | AG74: SPI
AG75: SPU
A76: Díl: | B76: 720 | C76: Zdravotechnická instalace | G76: =SUMIF(AG77:AG86,"<>NOR",G77:G86) -> 0 | I76: =SUM(I77:I86) -> 0 | K76: =SUM(K77:K86) -> 0 | M76: =SUM(M77:M86) -> 0 | O76: =SUM(O77:O86) -> 0.02 | Q76: =SUM(Q77:Q86) -> 0.14 | V76: =SUM(V77:V86) -> 31.55 | AG76: DIL
A77: 15 | B77: 713300822R00 | C77: Odstranění tepelné izolace těles pásy nebo foĺiemi_x000D_ ploch tvarových | D77: m2 | E77: 58.068 | G77: =ROUND(E77*F77,2) -> 0 | I77: =ROUND(E77*H77,2) -> 0 | K77: =ROUND(E77*J77,2) -> 0 | L77: 21 | M77: =G77*(1+L77/100) -> 0 | N77: 0 | O77: =ROUND(E77*N77,2) -> 0 | P77: 0.0024 | Q77: =ROUND(E77*P77,2) -> 0.14 | R77: 800-713 | S77: RTS 19/ I | T77: Kalkul | U77: 0.2 | V77: =ROUND(E77*U77,2) -> 11.61 | X77: Práce | AG77: POL1_
C78: šatna jih+posilovna+štna sever+chodba x 3 délky potrubí : (13,975+7,190+10,81+32,545)*3 *0,3 | E78: 58.068 | AG78: VV | AH78: 0
AG79: SPU
A80: 16 | B80: 230120020R00 | C80: Odmašťování potrubí DN 100 | D80: m | E80: 193.56 | G80: =ROUND(E80*F80,2) -> 0 | I80: =ROUND(E80*H80,2) -> 0 | K80: =ROUND(E80*J80,2) -> 0 | L80: 21 | M80: =G80*(1+L80/100) -> 0 | N80: 0 | O80: =ROUND(E80*N80,2) -> 0 | P80: 0 | Q80: =ROUND(E80*P80,2) -> 0 | S80: RTS 19/ I | T80: Kalkul | U80: 0 | V80: =ROUND(E80*U80,2) -> 0 | X80: Práce | AG80: POL1_
C81: šatna jih+posilovna+štna sever+chodba x 3 délky potrubí : (13,975+7,190+10,81+32,545)*3 | E81: 193.56 | AG81: VV | AH81: 0
AG82: SPU
A83: 17 | B83: 783425150R00 | C83: Nátěry potrubí a armatur syntetické potrubí, do DN 100 mm, dvojnásobné se základním nátěrem | D83: m | E83: 193.56 | G83: =ROUND(E83*F83,2) -> 0 | I83: =ROUND(E83*H83,2) -> 0 | K83: =ROUND(E83*J83,2) -> 0 | L83: 21 | M83: =G83*(1+L83/100) -> 0 | N83: 9e-05 | O83: =ROUND(E83*N83,2) -> 0.02 | P83: 0 | Q83: =ROUND(E83*P83,2) -> 0 | R83: 800-783 | S83: RTS 19/ I | T83: Kalkul | U83: 0.103 | V83: =ROUND(E83*U83,2) -> 19.94 | X83: Práce | AG83: POL1_
C84: na vzduchu schnoucí | AG84: SPI
C85: šatna jih+posilovna+štna sever+chodba x 3 délky potrubí : (13,975+7,190+10,81+32,545)*3 | E85: 193.56 | AG85: VV | AH85: 0
AG86: SPU
A87: Díl: | B87: 777 | C87: Podlahy ze syntetických hmot | G87: =SUMIF(AG88:AG94,"<>NOR",G88:G94) -> 0 | I87: =SUM(I88:I94) -> 0 | K87: =SUM(K88:K94) -> 0 | M87: =SUM(M88:M94) -> 0 | O87: =SUM(O88:O94) -> 0.84 | Q87: =SUM(Q88:Q94) -> 0 | V87: =SUM(V88:V94) -> 45.04 | AG87: DIL
A88: 18 | B88: 777551482R00 | C88: Podlahy ze stěrky silikátové s disperzí tloušťky 5 mm, samonivelační vyrovnávka pod keramiku, kámen, PVC, podklad - bez rozlišení | D88: m2 | E88: 102.36 | G88: =ROUND(E88*F88,2) -> 0 | I88: =ROUND(E88*H88,2) -> 0 | K88: =ROUND(E88*J88,2) -> 0 | L88: 21 | M88: =G88*(1+L88/100) -> 0 | N88: 0.00819 | O88: =ROUND(E88*N88,2) -> 0.84 | P88: 0 | Q88: =ROUND(E88*P88,2) -> 0 | R88: 800-773 | S88: RTS 19/ I | T88: Indiv | U88: 0.44 | V88: =ROUND(E88*U88,2) -> 45.04 | X88: Práce | AG88: POL1_
C89: šatna jih : 119,66 | E89: 119.66 | AG89: VV | AH89: 0
C90: šatna jih již provedena : -17,3 | E90: -17.3 | AG90: VV | AH90: 0
AG91: SPU
A92: 19 | B92: 998777203R00 | C92: Přesun hmot pro podlahy syntetické v objektech výšky do 24 m | D92: % | E92: 255.9 | G92: =ROUND(E92*F92,2) -> 0 | I92: =ROUND(E92*H92,2) -> 0 | K92: =ROUND(E92*J92,2) -> 0 | L92: 21 | M92: =G92*(1+L92/100) -> 0 | N92: 0 | O92: =ROUND(E92*N92,2) -> 0 | P92: 0 | Q92: =ROUND(E92*P92,2) -> 0 | R92: 800-773 | S92: RTS 19/ I | T92: Indiv | U92: 0 | V92: =ROUND(E92*U92,2) -> 0 | X92: Práce | AG92: POL1_
C93: 50 m vodorovně | AG93: SPI
AG94: SPU
A95: Díl: | B95: 771 | C95: Podlahy z dlaždic a obklady | G95: =SUMIF(AG96:AG113,"<>NOR",G96:G113) -> 0 | I95: =SUM(I96:I113) -> 0 | K95: =SUM(K96:K113) -> 0 | M95: =SUM(M96:M113) -> 0 | O95: =SUM(O96:O113) -> 0.39 | Q95: =SUM(Q96:Q113) -> 0 | V95: =SUM(V96:V113) -> 105.23 | AG95: DIL
A96: 20 | B96: 771101210RT1 | C96: Příprava podkladu pod dlažby penetrace podkladu pod dlažby | D96: m2 | E96: 102.36 | G96: =ROUND(E96*F96,2) -> 0 | I96: =ROUND(E96*H96,2) -> 0 | K96: =ROUND(E96*J96,2) -> 0 | L96: 21 | M96: =G96*(1+L96/100) -> 0 | N96: 0.00021 | O96: =ROUND(E96*N96,2) -> 0.02 | P96: 0 | Q96: =ROUND(E96*P96,2) -> 0 | R96: 800-771 | S96: RTS 19/ I | T96: Indiv | U96: 0.05 | V96: =ROUND(E96*U96,2) -> 5.12 | X96: Práce | AG96: POL1_7
C97: šatna jih : 119,66 | E97: 119.66 | AG97: VV | AH97: 0
C98: šatna jih již provedena : -17,3 | E98: -17.3 | AG98: VV | AH98: 0
AG99: SPU
A100: 21 | B100: 771575109R00 | C100: Montáž podlah z dlaždic keramických 300 x 300 mm, režných nebo glazovaných, hladkých, kladených do flexibilního tmele | D100: m2 | E100: 102.36 | G100: =ROUND(E100*F100,2) -> 0 | I100: =ROUND(E100*H100,2) -> 0 | K100: =ROUND(E100*J100,2) -> 0 | L100: 21 | M100: =G100*(1+L100/100) -> 0 | N100: 0.00243 | O100: =ROUND(E100*N100,2) -> 0.25 | P100: 0 | Q100: =ROUND(E100*P100,2) -> 0 | R100: 800-771 | S100: RTS 19/ I | T100: Indiv | U100: 0.978 | V100: =ROUND(E100*U100,2) -> 100.11 | X100: Práce | AG100: POL1_7
C101: šatna jih : 119,66 | E101: 119.66 | AG101: VV | AH101: 0
C102: šatna jih již provedena : -17,3 | E102: -17.3 | AG102: VV | AH102: 0
...

Sheet 01 2 Pol
A1: Položkový soupis prací a dodávek | AG1: #TypZaznamu#
A2: S: | B2: 2019/16-2 | C2: Dílčí stav.úpravy v objektu gymnázia SO 01 - vnitřní úpravy | AG2: STA
A3: O: | B3: 01 | C3: SO 01 OBJEKT GYMNÁZIA | AC3: STA | AG3: OBJ
A4: R: | B4: 2 | C4: nářaďovna ,ATRIUM JIH nad nářaďovnou | AG4: ROZ
A6: P.č. | B6: Číslo položky | C6: Název položky | D6: MJ | E6: Množství | F6: Cena / MJ | G6: Celkem | H6: Dodávka | I6: Dodávka celk. | J6: Montáž | K6: Montáž celk. | L6: DPH | M6: Cena s DPH | N6: Hmotnost / MJ | O6: Hmotnost celk.(t) | P6: Dem. hmotnost / MJ | Q6: Dem. hmotnost celk.(t) | R6: Ceník | S6: Cen. soustava / platnost | T6: Cenová úroveň | U6: Nhod / MJ | V6: Nhod celk. | W6: Dodavatel | X6: Typ položky
A8: Díl: | B8: 63 | C8: Podlahy a podlahové konstrukce | G8: =SUMIF(AG9:AG14,"<>NOR",G9:G14) -> 0 | I8: =SUM(I9:I14) -> 0 | K8: =SUM(K9:K14) -> 0 | M8: =SUM(M9:M14) -> 0 | O8: =SUM(O9:O14) -> 0.06 | Q8: =SUM(Q9:Q14) -> 9.1 | V8: =SUM(V9:V14) -> 51.45 | AG8: DIL
A9: 1 | B9: 632922953R00 | C9: Kladení dlaždic na terče - podložky podstavce výškově stavitelné dlaždice 500 x 500 mm, výškově stavitelné podstavce 35-55 mm | D9: m2 | E9: 65.96 | G9: =ROUND(E9*F9,2) -> 0 | I9: =ROUND(E9*H9,2) -> 0 | K9: =ROUND(E9*J9,2) -> 0 | L9: 21 | M9: =G9*(1+L9/100) -> 0 | N9: 0.00084 | O9: =ROUND(E9*N9,2) -> 0.06 | P9: 0 | Q9: =ROUND(E9*P9,2) -> 0 | R9: 801-1 | S9: RTS 19/ I | T9: Indiv | U9: 0.62 | V9: =ROUND(E9*U9,2) -> 40.9 | X9: Práce | AG9: POL1_1
AG10: SPU
A11: 2 | B11: 113106121-1 | C11: Rozebrání dlažeb venkovních pro zpětnou montáž,úprava podloží | D11: m2 | E11: 65.96 | G11: =ROUND(E11*F11,2) -> 0 | I11: =ROUND(E11*H11,2) -> 0 | K11: =ROUND(E11*J11,2) -> 0 | L11: 21 | M11: =G11*(1+L11/100) -> 0 | N11: 0 | O11: =ROUND(E11*N11,2) -> 0 | P11: 0.138 | Q11: =ROUND(E11*P11,2) -> 9.1 | S11: Vlastní | T11: Indiv | U11: 0.16 | V11: =ROUND(E11*U11,2) -> 10.55 | X11: Práce | AG11: POL1_
AG12: SPU
A13: 3 | B13: 63002 | C13: D+M soklové začišťovací lišty pro dlažbu do terčů | D13: m | E13: 20 | G13: =ROUND(E13*F13,2) -> 0 | I13: =ROUND(E13*H13,2) -> 0 | K13: =ROUND(E13*J13,2) -> 0 | L13: 21 | M13: =G13*(1+L13/100) -> 0 | N13: 0 | O13: =ROUND(E13*N13,2) -> 0 | P13: 0 | Q13: =ROUND(E13*P13,2) -> 0 | S13: Vlastní | T13: Indiv | U13: 0 | V13: =ROUND(E13*U13,2) -> 0 | X13: Práce | AG13: POL1_
AG14: SPU
A15: Díl: | B15: 721 | C15: Vnitřní kanalizace | G15: =SUMIF(AG16:AG26,"<>NOR",G16:G26) -> 0 | I15: =SUM(I16:I26) -> 0 | K15: =SUM(K16:K26) -> 0 | M15: =SUM(M16:M26) -> 0 | O15: =SUM(O16:O26) -> 0.09 | Q15: =SUM(Q16:Q26) -> 0.08 | V15: =SUM(V16:V26) -> 4.31 | AG15: DIL
A16: 4 | B16: 721211520R00 | C16: Vpusti dvorní průměr 110 mm, se zápachovou klapkou, s plastovým rámem 240 x 240 mm, litinovou mříží a odkalovacím košem, suchá klapka proti pronikání zápachu , včetně dodávky materiálu | D16: kus | E16: 1 | G16: =ROUND(E16*F16,2) -> 0 | I16: =ROUND(E16*H16,2) -> 0 | K16: =ROUND(E16*J16,2) -> 0 | L16: 21 | M16: =G16*(1+L16/100) -> 0 | N16: 0.08198 | O16: =ROUND(E16*N16,2) -> 0.08 | P16: 0 | Q16: =ROUND(E16*P16,2) -> 0 | R16: 800-721 | S16: RTS 19/ I | T16: Indiv | U16: 0.3 | V16: =ROUND(E16*U16,2) -> 0.3 | X16: Práce | AG16: POL1_
C17: včetně betonového lože | AG17: SPI
AG18: SPU
A19: 5 | B19: 721-1 | C19: Demontáž potrubí dešťového svodu | D19: m | E19: 1.5 | G19: =ROUND(E19*F19,2) -> 0 | I19: =ROUND(E19*H19,2) -> 0 | K19: =ROUND(E19*J19,2) -> 0 | L19: 21 | M19: =G19*(1+L19/100) -> 0 | N19: 0 | O19: =ROUND(E19*N19,2) -> 0 | P19: 0.00198 | Q19: =ROUND(E19*P19,2) -> 0 | S19: Vlastní | T19: Indiv | U19: 0.083 | V19: =ROUND(E19*U19,2) -> 0.12 | X19: Práce | AG19: POL1_
AG20: SPU
A21: 6 | B21: 721-2 | C21: Demontáž dvorní vpusti + zabetonování otvoru | D21: kus | E21: 1 | G21: =ROUND(E21*F21,2) -> 0 | I21: =ROUND(E21*H21,2) -> 0 | K21: =ROUND(E21*J21,2) -> 0 | L21: 21 | M21: =G21*(1+L21/100) -> 0 | N21: 0 | O21: =ROUND(E21*N21,2) -> 0 | P21: 0.082 | Q21: =ROUND(E21*P21,2) -> 0.08 | S21: Vlastní | T21: Indiv | U21: 0.63 | V21: =ROUND(E21*U21,2) -> 0.63 | X21: Práce | AG21: POL1_
AG22: SPU
A23: 7 | B23: 721-3 | C23: Potrubí KG dešťové | D23: m | E23: 7.5 | G23: =ROUND(E23*F23,2) -> 0 | I23: =ROUND(E23*H23,2) -> 0 | K23: =ROUND(E23*J23,2) -> 0 | L23: 21 | M23: =G23*(1+L23/100) -> 0 | N23: 0.00199 | O23: =ROUND(E23*N23,2) -> 0.01 | P23: 0 | Q23: =ROUND(E23*P23,2) -> 0 | S23: Vlastní | T23: Indiv | U23: 0.4349 | V23: =ROUND(E23*U23,2) -> 3.26 | X23: Práce | AG23: POL1_
C24: Potrubí včetně tvarovek, objímek a vložek pro tlumení hluku. Bez zednických výpomocí. | AG24: POP
C25: Včetně zřízení a demontáže pomocného lešení. | AG25: POP
AG26: SPU
AE27: 15 | AF27: 21
B28: Celkem | G28: =G8+G15 -> 0 | AE28: =SUMIF(L7:L26,AE27,G7:G26) -> 0 | AF28: =SUMIF(L7:L26,AF27,G7:G26) -> 0 | AG28: SUM
AG29: END

Sheet 01 3. Pol
A1: Položkový soupis prací a dodávek | AG1: #TypZaznamu#
A2: S: | B2: 2019/16-2 | C2: Dílčí stav.úpravy v objektu gymnázia SO 01 - vnitřní úpravy | AG2: STA
A3: O: | B3: 01 | C3: SO 01 OBJEKT GYMNÁZIA | AC3: STA | AG3: OBJ
A4: R: | B4: 3. | C4: vnější sanace obvodového zdiva - východ | AG4: ROZ
A6: P.č. | B6: Číslo položky | C6: Název položky | D6: MJ | E6: Množství | F6: Cena / MJ | G6: Celkem | H6: Dodávka | I6: Dodávka celk. | J6: Montáž | K6: Montáž celk. | L6: DPH | M6: Cena s DPH | N6: Hmotnost / MJ | O6: Hmotnost celk.(t) | P6: Dem. hmotnost / MJ | Q6: Dem. hmotnost celk.(t) | R6: Ceník | S6: Cen. soustava / platnost | T6: Cenová úroveň | U6: Nhod / MJ | V6: Nhod celk. | W6: Dodavatel | X6: Typ položky
A8: Díl: | B8: 1 | C8: Zemní práce | G8: =SUMIF(AG9:AG35,"<>NOR",G9:G35) -> 0 | I8: =SUM(I9:I35) -> 0 | K8: =SUM(K9:K35) -> 0 | M8: =SUM(M9:M35) -> 0 | O8: =SUM(O9:O35) -> 0 | Q8: =SUM(Q9:Q35) -> 14.4 | V8: =SUM(V9:V35) -> 45.17 | AG8: DIL
A9: 1 | B9: 111201101R00 | C9: Odstranění křovin a stromů o průměru do 10 cm při celkové ploše do 1 000 m2 | D9: m2 | E9: 10 | G9: =ROUND(E9*F9,2) -> 0 | I9: =ROUND(E9*H9,2) -> 0 | K9: =ROUND(E9*J9,2) -> 0 | L9: 21 | M9: =G9*(1+L9/100) -> 0 | N9: 0 | O9: =ROUND(E9*N9,2) -> 0 | P9: 0 | Q9: =ROUND(E9*P9,2) -> 0 | R9: 800-1 | S9: RTS 19/ I | T9: Kalkul | U9: 0.172 | V9: =ROUND(E9*U9,2) -> 1.72 | X9: Práce | AG9: POL1_
C10: s odstraněním kořenů a s případným nutným odklizením křovin a stromů na hromady na vzdálenost do 50 m nebo s naložením na dopravní prostředek, do sklonu terénu 1 : 5, | AG10: SPI | BA10: =C10 -> s odstraněním kořenů a s případným nutným odklizením křovin a stromů na hromady na vzdálenost do 50 m nebo s naložením na dopravní prostředek, do sklonu terénu 1 : 5,
AG11: SPU
A12: 2 | B12: 113105111R00 | C12: Rozebrání dlažeb z lomového kamene kladených na sucho | D12: m2 | E12: 30 | G12: =ROUND(E12*F12,2) -> 0 | I12: =ROUND(E12*H12,2) -> 0 | K12: =ROUND(E12*J12,2) -> 0 | L12: 21 | M12: =G12*(1+L12/100) -> 0 | N12: 0 | O12: =ROUND(E12*N12,2) -> 0 | P12: 0.48 | Q12: =ROUND(E12*P12,2) -> 14.4 | R12: 822-1 | S12: RTS 19/ I | T12: Kalkul | U12: 0.306 | V12: =ROUND(E12*U12,2) -> 9.18 | X12: Práce | AG12: POL1_
C13: s přemístěním hmot na skládku na vzdálenost do 3 m nebo s naložením na dopravní prostředek, | AG13: SPI
C14: okapový chodník : 50*0,6 | E14: 30 | AG14: VV | AH14: 0
AG15: SPU
A16: 3 | B16: 130001101R00 | C16: Příplatek k cenám za ztížené vykopávky v horninách jakékoliv třídy | D16: m3 | E16: 2.25 | G16: =ROUND(E16*F16,2) -> 0 | I16: =ROUND(E16*H16,2) -> 0 | K16: =ROUND(E16*J16,2) -> 0 | L16: 21 | M16: =G16*(1+L16/100) -> 0 | N16: 0 | O16: =ROUND(E16*N16,2) -> 0 | P16: 0 | Q16: =ROUND(E16*P16,2) -> 0 | R16: 800-1 | S16: RTS 19/ I | T16: Kalkul | U16: 1.763 | V16: =ROUND(E16*U16,2) -> 3.97 | X16: Práce | AG16: POL1_
C17: Příplatek k cenám hloubených vykopávek za ztížení vykopávky v blízkosti podzemního vedení nebo výbušnin pro jakoukoliv třídu horniny. | AG17: SPI | BA17: =C17 -> Příplatek k cenám hloubených vykopávek za ztížení vykopávky v blízkosti podzemního vedení nebo výbušnin pro jakoukoliv třídu horniny.
AG18: SPU
A19: 4 | B19: 132101211R00 | C19: Hloubení rýh šířky přes 60 do 200 cm do 100 m3, v hornině 1-2, hloubení strojně | D19: m3 | E19: 100 | G19: =ROUND(E19*F19,2) -> 0 | I19: =ROUND(E19*H19,2) -> 0 | K19: =ROUND(E19*J19,2) -> 0 | L19: 21 | M19: =G19*(1+L19/100) -> 0 | N19: 0 | O19: =ROUND(E19*N19,2) -> 0 | P19: 0 | Q19: =ROUND(E19*P19,2) -> 0 | R19: 800-1 | S19: RTS 19/ I | T19: Kalkul | U19: 0.18 | V19: =ROUND(E19*U19,2) -> 18 | X19: Práce | AG19: POL1_
C20: zapažených i nezapažených, s urovnáním dna do předepsaného profilu a spádu, s případně nutným přehozením výkopku na vzdálenost do 3 m ve výkopišti, s přehozením výkopku na přilehlém terénu na vzdálenost do 5 m od podélné osy rýhy nebo s naložením výkopku na dopravní prostředek. | AG20: SPI | BA20: =C20 -> zapažených i nezapažených, s urovnáním dna do předepsaného profilu a spádu, s případně nutným přehozením výkopku na vzdálenost do 3 m ve výkopišti, s přehozením výkopku na přilehlém terénu na vzdálenost do 5 m od podélné osy rýhy nebo s naložením výkopku na dopravní prostředek.
C21: výkop pro drenáž :délka objektu x 2m3/m : 50*2 | E21: 100 | AG21: VV | AH21: 0
AG22: SPU
A23: 5 | B23: 162701105R00 | C23: Vodorovné přemístění výkopku z horniny 1 až 4, na vzdálenost přes 9 000 do 10 000 m | D23: m3 | E23: 100 | G23: =ROUND(E23*F23,2) -> 0 | I23: =ROUND(E23*H23,2) -> 0 | K23: =ROUND(E23*J23,2) -> 0 | L23: 21 | M23: =G23*(1+L23/100) -> 0 | N23: 0 | O23: =ROUND(E23*N23,2) -> 0 | P23: 0 | Q23: =ROUND(E23*P23,2) -> 0 | R23: 800-1 | S23: RTS 19/ I | T23: Kalkul | U23: 0.011 | V23: =ROUND(E23*U23,2) -> 1.1 | X23: Práce | AG23: POL1_
C24: po suchu, bez naložení výkopku, avšak se složením bez rozhrnutí, zpáteční cesta vozidla. | AG24: SPI
AG25: SPU
A26: 6 | B26: 162301501R00 | C26: Vodorovné přemístění křovin nma vzdálenost do 5 000 m | D26: m2 | E26: 10 | G26: =ROUND(E26*F26,2) -> 0 | I26: =ROUND(E26*H26,2) -> 0 | K26: =ROUND(E26*J26,2) -> 0 | L26: 21 | M26: =G26*(1+L26/100) -> 0 | N26: 0 | O26: =ROUND(E26*N26,2) -> 0 | P26: 0 | Q26: =ROUND(E26*P26,2) -> 0 | R26: 800-1 | S26: RTS 19/ I | T26: Kalkul | U26: 0 | V26: =ROUND(E26*U26,2) -> 0 | X26: Práce | AG26: POL1_
C27: o průměru kmene do 10 cm na vzdálenost, složení z dopravního porstředku. | AG27: SPI
AG28: SPU
A29: 7 | B29: 171201201R00 | C29: Uložení sypaniny na dočasnou skládku tak, že na 1 m2 plochy připadá přes 2 m3 výkopku nebo ornice | D29: m3 | E29: 100 | G29: =ROUND(E29*F29,2) -> 0 | I29: =ROUND(E29*H29,2) -> 0 | K29: =ROUND(E29*J29,2) -> 0 | L29: 21 | M29: =G29*(1+L29/100) -> 0 | N29: 0 | O29: =ROUND(E29*N29,2) -> 0 | P29: 0 | Q29: =ROUND(E29*P29,2) -> 0 | R29: 800-1 | S29: RTS 19/ I | T29: Kalkul | U29: 0.009 | V29: =ROUND(E29*U29,2) -> 0.9 | X29: Práce | AG29: POL1_
AG30: SPU
A31: 8 | B31: 181300010RAD | C31: Rozprostření ornice v rovině nebo svahu do 1 : 5 a osetí travou při tloušťce 150 mm, dovoz ornice ze vzdálenosti 10 000 m | D31: m2 | E31: 40 | G31: =ROUND(E31*F31,2) -> 0 | I31: =ROUND(E31*H31,2) -> 0 | K31: =ROUND(E31*J31,2) -> 0 | L31: 21 | M31: =G31*(1+L31/100) -> 0 | N31: 3e-05 | O31: =ROUND(E31*N31,2) -> 0 | P31: 0 | Q31: =ROUND(E31*P31,2) -> 0 | R31: AP-HSV | S31: RTS 19/ I | T31: Kalkul | U31: 0.25752 | V31: =ROUND(E31*U31,2) -> 10.3 | X31: Agregovaná položka | AG31: POL2_
C32: vč. urovnání ornice, naložení na skládce, vodorovným přemístěním ornice na místo rozprostření, založení trávníku osetím a dodávky travního semene. | AG32: SPI | BA32: =C32 -> vč. urovnání ornice, naložení na skládce, vodorovným přemístěním ornice na místo rozprostření, založení trávníku osetím a dodávky travního semene.
C33: Včetně přesunu hmot. | AG33: POP
C34: 50*0,8 | E34: 40 | AG34: VV | AH34: 0
AG35: SPU
A36: Díl: | B36: 2 | C36: Základy a zvláštní zakládání | G36: =SUMIF(AG37:AG47,"<>NOR",G37:G47) -> 0 | I36: =SUM(I37:I47) -> 0 | K36: =SUM(K37:K47) -> 0 | M36: =SUM(M37:M47) -> 0 | O36: =SUM(O37:O47) -> 152.62 | Q36: =SUM(Q37:Q47) -> 0 | V36: =SUM(V37:V47) -> 113.26 | AG36: DIL
A37: 9 | B37: 212531111R00 | C37: Výplň trativodů kamenivem hrubým drceným, frakce 16-63 mm | D37: m3 | E37: 80 | G37: =ROUND(E37*F37,2) -> 0 | I37: =ROUND(E37*H37,2) -> 0 | K37: =ROUND(E37*J37,2) -> 0 | L37: 21 | M37: =G37*(1+L37/100) -> 0 | N37: 1.63 | O37: =ROUND(E37*N37,2) -> 130.4 | P37: 0 | Q37: =ROUND(E37*P37,2) -> 0 | R37: 800-2 | S37: RTS 19/ I | T37: Kalkul | U37: 0.92 | V37: =ROUND(E37*U37,2) -> 73.6 | X37: Práce | AG37: POL1_
C38: do rýh bez zhutnění s úpravou povrchu výplně, | AG38: SPI
C39: výkop: : 100 | E39: 100 | AG39: VV | AH39: 0
C40: zemina na zatravnění: : -8 | E40: -8 | AG40: VV | AH40: 0
C41: drenáž vč.opsypu: : -12 | E41: -12 | AG41: VV | AH41: 0
AG42: SPU
A43: 10 | B43: 212850003RAA | C43: Drenáž podél základu objektu z drenážních trub, d 160 mm | D43: m | E43: 55 | G43: =ROUND(E43*F43,2) -> 0 | I43: =ROUND(E43*H43,2) -> 0 | K43: =ROUND(E43*J43,2) -> 0 | L43: 21 | M43: =G43*(1+L43/100) -> 0 | N43: 0.40392 | O43: =ROUND(E43*N43,2) -> 22.22 | P43: 0 | Q43: =ROUND(E43*P43,2) -> 0 | R43: AP-HSV | S43: RTS 19/ I | T43: Kalkul | U43: 0.72107 | V43: =ROUND(E43*U43,2) -> 39.66 | X43: Agregovaná položka | AG43: POL2_
C44: včetně betonového lože C 16/20, obsypu kamenivem, ochranné geotextilie a revizní šachty | AG44: SPI
C45: délka stěny : : 50 | E45: 50 | AG45: VV | AH45: 0
C46: napojení do kanalizace : : 5 | E46: 5 | AG46: VV | AH46: 0
AG47: SPU
A48: Díl: | B48: 3 | C48: Svislé a kompletní konstrukce | G48: =SUMIF(AG49:AG55,"<>NOR",G49:G55) -> 0 | I48: =SUM(I49:I55) -> 0 | K48: =SUM(K49:K55) -> 0 | M48: =SUM(M49:M55) -> 0 | O48: =SUM(O49:O55) -> 6.75 | Q48: =SUM(Q49:Q55) -> 0 | V48: =SUM(V49:V55) -> 169.62 | AG48: DIL
A49: 11 | B49: 318110011R00 | C49: Podhrabové desky osazení bez dodávky podhrabové desky a držáků, , | D49: soubor | E49: 53 | G49: =ROUND(E49*F49,2) -> 0 | I49: =ROUND(E49*H49,2) -> 0 | K49: =ROUND(E49*J49,2) -> 0 | L49: 21 | M49: =G49*(1+L49/100) -> 0 | N49: 0 | O49: =ROUND(E49*N49,2) -> 0 | P49: 0 | Q49: =ROUND(E49*P49,2) -> 0 | R49: 801-5 | S49: RTS 19/ I | T49: Indiv | U49: 1.5 | V49: =ROUND(E49*U49,2) -> 79.5 | X49: Práce | AG49: POL1_
AG50: SPU
A51: 12 | B51: 338171122R00 | C51: Osazování sloupků a vzpěr plotových ocelových výšky do 2,60 m, se zabetonováním do 0,5 m3 do předem připravených jamek betonem C 25/30 | D51: kus | E51: 54 | G51: =ROUND(E51*F51,2) -> 0 | I51: =ROUND(E51*H51,2) -> 0 | K51: =ROUND(E51*J51,2) -> 0 | L51: 21 | M51: =G51*(1+L51/100) -> 0 | N51: 0.125 | O51: =ROUND(E51*N51,2) -> 6.75 | P51: 0 | Q51: =ROUND(E51*P51,2) -> 0 | R51: 801-5 | S51: RTS 19/ I | T51: Kalkul | U51: 0.52 | V51: =ROUND(E51*U51,2) -> 28.08 | X51: Práce | AG51: POL1_
C52: trubkových nebo profilovaných | AG52: SPI
AG53: SPU
A54: 13 | B54: 767914130R00 | C54: Montáž oplocení z pletiva rámového na ocelové sloupky, o výšce přes 1,5 do 2 m | D54: m | E54: 132 | G54: =ROUND(E54*F54,2) -> 0 | I54: =ROUND(E54*H54,2) -> 0 | K54: =ROUND(E54*J54,2) -> 0 | L54: 21 | M54: =G54*(1+L54/100) -> 0 | N54: 0 | O54: =ROUND(E54*N54,2) -> 0 | P54: 0 | Q54: =ROUND(E54*P54,2) -> 0 | R54: 800-767 | S54: RTS 19/ I | T54: Kalkul | U54: 0.47 | V54: =ROUND(E54*U54,2) -> 62.04 | X54: Práce | AG54: POL1_
AG55: SPU
A56: Díl: | B56: 5 | C56: Komunikace | G56: =SUMIF(AG57:AG66,"<>NOR",G57:G66) -> 0 | I56: =SUM(I57:I66) -> 0 | K56: =SUM(K57:K66) -> 0 | M56: =SUM(M57:M66) -> 0 | O56: =SUM(O57:O66) -> 23.56 | Q56: =SUM(Q57:Q66) -> 0 | V56: =SUM(V57:V66) -> 24.78 | AG56: DIL
A57: 14 | B57: 451579877R00 | C57: Podklad nebo lože pod dlažbu (přídlažbu) ze štěrkopísku_x000D_ příplatek za další 1cm štěrkopísku nad 10 cm | D57: m2 | E57: 150 | G57: =ROUND(E57*F57,2) -> 0 | I57: =ROUND(E57*H57,2) -> 0 | K57: =ROUND(E57*J57,2) -> 0 | L57: 21 | M57: =G57*(1+L57/100) -> 0 | N57: 0.02024 | O57: =ROUND(E57*N57,2) -> 3.04 | P57: 0 | Q57: =ROUND(E57*P57,2) -> 0 | R57: 822-1 | S57: RTS 19/ I | T57: Kalkul | U57: 0.006 | V57: =ROUND(E57*U57,2) -> 0.9 | X57: Práce | AG57: POL1_
C58: v ploše vodorovné nebo ve sklonu do 1:5 | AG58: SPI
AG59: SPU
A60: 15 | B60: 594611111R00 | C60: Dlažba nebo přídlažba z lomového kamene do lože ze štěrkopísku tloušťky 50 mm, včetně dodávky kamene tloušťky 20cm, třídy 1 | D60: m2 | E60: 30 | G60: =ROUND(E60*F60,2) -> 0 | I60: =ROUND(E60*H60,2) -> 0 | K60: =ROUND(E60*J60,2) -> 0 | L60: 21 | M60: =G60*(1+L60/100) -> 0 | N60: 0.5802 | O60: =ROUND(E60*N60,2) -> 17.41 | P60: 0 | Q60: =ROUND(E60*P60,2) -> 0 | R60: 822-1 | S60: RTS 19/ I | T60: Kalkul | U60: 0.672 | V60: =ROUND(E60*U60,2) -> 20.16 | X60: Práce | AG60: POL1_
C61: lomařsky upraveného rigolového, bez vyplnění spár v ploše vodorovné nebo ve sklonu, s provedením lože tl. 50 mm | AG61: SPI | BA61: =C61 -> lomařsky upraveného rigolového, bez vyplnění spár v ploše vodorovné nebo ve sklonu, s provedením lože tl. 50 mm
C62: okapový chodník : 50*0,6 | E62: 30 | AG62: VV | AH62: 0
AG63: SPU
A64: 16 | B64: 599432111R00 | C64: Vyplnění spár dlažby (přídlažby) z lomového kamene kamenivem těženým | D64: m2 | E64: 30 | G64: =ROUND(E64*F64,2) -> 0 | I64: =ROUND(E64*H64,2) -> 0 | K64: =ROUND(E64*J64,2) -> 0 | L64: 21 | M64: =G64*(1+L64/100) -> 0 | N64: 0.10354 | O64: =ROUND(E64*N64,2) -> 3.11 | P64: 0 | Q64: =ROUND(E64*P64,2) -> 0 | R64: 822-1 | S64: RTS 19/ I | T64: Kalkul | U64: 0.124 | V64: =ROUND(E64*U64,2) -> 3.72 | X64: Práce | AG64: POL1_
C65: v jakémkoliv sklonu plochy a jakékoliv tloušťky | AG65: SPI
AG66: SPU
A67: Díl: | B67: 711 | C67: Izolace proti vodě | G67: =SUMIF(AG68:AG71,"<>NOR",G68:G71) -> 0 | I67: =SUM(I68:I71) -> 0 | K67: =SUM(K68:K71) -> 0 | M67: =SUM(M68:M71) -> 0 | O67: =SUM(O68:O71) -> 0.12 | Q67: =SUM(Q68:Q71) -> 0 | V67: =SUM(V68:V71) -> 16.13 | AG67: DIL
A68: 17 | B68: 711823121RT6 | C68: Ochrana konstrukcí nopovou fólií svisle, výška nopu 20 mm, včetně dodávky fólie | D68: m2 | E68: 100.8 | G68: =ROUND(E68*F68,2) -> 0 | I68: =ROUND(E68*H68,2) -> 0 | K68: =ROUND(E68*J68,2) -> 0 | L68: 21 | M68: =G68*(1+L68/100) -> 0 | N68: 0.00115 | O68: =ROUND(E68*N68,2) -> 0.12 | P68: 0 | Q68: =ROUND(E68*P68,2) -> 0 | R68: 800-711 | S68: RTS 19/ I | T68: Kalkul | U68: 0.16 | V68: =ROUND(E68*U68,2) -> 16.13 | X68: Práce | AG68: POL1_
C69: délka zdiva x 2m výška : : 50*2 | E69: 100 | AG69: VV | AH69: 0
C70: montážní přesah : 0,8 | E70: 0.8 | AG70: VV | AH70: 0
AG71: SPU
A72: Díl: | B72: VN | C72: Vedlejší náklady | G72: =SUMIF(AG73:AG75,"<>NOR",G73:G75) -> 0 | I72: =SUM(I73:I75) -> 0 | K72: =SUM(K73:K75) -> 0 | M72: =SUM(M73:M75) -> 0 | O72: =SUM(O73:O75) -> 0 | Q72: =SUM(Q73:Q75) -> 0 | V72: =SUM(V73:V75) -> 0 | AG72: DIL
A73: 18 | B73: 005111021R | C73: Vytyčení inženýrských sítí | D73: Soubor | E73: 1 | G73: =ROUND(E73*F73,2) -> 0 | I73: =ROUND(E73*H73,2) -> 0 | K73: =ROUND(E73*J73,2) -> 0 | L73: 21 | M73: =G73*(1+L73/100) -> 0 | N73: 0 | O73: =ROUND(E73*N73,2) -> 0 | P73: 0 | Q73: =ROUND(E73*P73,2) -> 0 | S73: RTS 19/ I | T73: Indiv | U73: 0 | V73: =ROUND(E73*U73,2) -> 0 | X73: VRN | AG73: POL99_2
C74: Zaměření a vytýčení stávajících inženýrských sítí v místě stavby z hlediska jejich ochrany při provádění stavby. | AG74: POP | BA74: =C74 -> Zaměření a vytýčení stávajících inženýrských sítí v místě stavby z hlediska jejich ochrany při provádění stavby.
AG75: SPU
AE76: 15 | AF76: 21
B77: Celkem | G77: =G8+G36+G48+G56+G67+G72 -> 0 | AE77: =SUMIF(L7:L75,AE76,G7:G75) -> 0 | AF77: =SUMIF(L7:L75,AF76,G7:G75) -> 0 | AG77: SUM
AG78: END
