Workbook
Name CelkemDPHVypocet: Stavba!$H$44
Name CenaCelkem: Stavba!$G$29
Name CenaCelkemBezDPH: Stavba!$G$28
Name CenaCelkemVypocet: Stavba!$I$44
Name cisloobjektu: Stavba!$D$3
Name CisloRozpoctu: '[1]Krycí list'!$C$2
Name CisloStavby: Stavba!$D$2
Name cislostavby: '[1]Krycí list'!$A$7
Name CisloStavebnihoRozpoctu: Stavba!$D$4
Name dadresa: Stavba!$D$12:$G$12
Name DIČ: Stavba!$I$12
Name dmisto: Stavba!$E$13:$G$13
Name DPHSni: Stavba!$G$24
Name DPHZakl: Stavba!$G$26
Name dpsc: Stavba!$D$13
Name IČO: Stavba!$I$11
Name Mena: Stavba!$J$29
Name MistoStavby: Stavba!$D$4
Name nazevobjektu: Stavba!$E$3
Name NazevRozpoctu: '[1]Krycí list'!$D$2
Name NazevStavby: Stavba!$E$2
Name nazevstavby: '[1]Krycí list'!$C$7
Name NazevStavebnihoRozpoctu: Stavba!$E$4
Name oadresa: Stavba!$D$6
Name Objednatel: Stavba!$D$5
Name Objekt: Stavba!$B$38
Name odic: Stavba!$I$6
Name oico: Stavba!$I$5
Name omisto: Stavba!$E$7
Name onazev: Stavba!$D$6
Name opsc: Stavba!$D$7
Name padresa: Stavba!$D$9
Name pdic: Stavba!$I$9
Name pico: Stavba!$I$8
Name pmisto: Stavba!$E$10
Name PocetMJ: #REF!
Name PoptavkaID: Stavba!$A$1
Name pPSC: Stavba!$D$10
Name Projektant: Stavba!$D$8
Name SazbaDPH1: Stavba!$E$23
Name SazbaDPH1: '[1]Krycí list'!$C$30
Name SazbaDPH2: Stavba!$E$25
Name SazbaDPH2: '[1]Krycí list'!$C$32
Name SloupecCC: #REF!
Name SloupecCisloPol: #REF!
Name SloupecJC: #REF!
Name SloupecMJ: #REF!
Name SloupecMnozstvi: #REF!
Name SloupecNazPol: #REF!
Name SloupecPC: #REF!
Name Vypracoval: Stavba!$D$14
Name ZakladDPHSni: Stavba!$G$23
Name ZakladDPHSniVypocet: Stavba!$F$44
Name ZakladDPHZakl: Stavba!$G$25
Name ZakladDPHZaklVypocet: Stavba!$G$44
Name ZaObjednatele: Stavba!$G$34
Name Zaokrouhleni: Stavba!$G$27
Name ZaZhotovitele: Stavba!$D$34
Name Zhotovitel: Stavba!$D$11:$G$11

Sheet Pokyny pro vyplnění
A1: Pokyny pro vyplnění
A2: Ve všech listech tohoto souboru můžete měnit pouze buňky s modrým pozadím. Jedná se o tyto údaje : - údaje o firmě - jednotkové ceny položek zadané na maximálně dvě desetinná místa

Sheet Stavba
A1: #RTSROZP# | B1: Soupis stavebních prací, dodávek a služeb
B2: Stavba: | D2: 2019/16-2 | E2: Dílčí stav.úpravy v objektu gymnázia SO 01 - vnitřní úpravy
B5: Zadavatel | H5: IČO:
H6: DIČ:
B8: Projektant: | H8: IČO:
H9: DIČ:
B11: Zhotovitel: | H11: IČO:
H12: DIČ:
B14: Vypracoval:
B15: Rozpis ceny | I15: Celkem
A16: HSV | B16: HSV | I16: =SUMIF(F51:F69,A16,I51:I69)+SUMIF(F51:F69,"PSU",I51:I69) -> 0
A17: PSV | B17: PSV | I17: =SUMIF(F51:F69,A17,I51:I69) -> 0
A18: MON | B18: MON | I18: =SUMIF(F51:F69,A18,I51:I69) -> 0
A19: VN | B19: Vedlejší náklady | I19: =SUMIF(F51:F69,A19,I51:I69) -> 0
A20: ON | B20: Ostatní náklady | I20: =SUMIF(F51:F69,A20,I51:I69) -> 0
B21: Celkem | I21: =SUM(I16:J20) -> 0
B22: Rekapitulace daní
B23: Základ pro sníženou DPH | E23: 15 | F23: % | G23: =ZakladDPHSniVypocet -> 0 | J23: =Mena -> CZK
B24: Snížená DPH | E24: =SazbaDPH1 -> 15 | F24: % | G24: =I23*E23/100 -> 0 | J24: =Mena -> CZK
B25: Základ pro základní DPH | E25: 21 | F25: % | G25: =ZakladDPHZaklVypocet -> 0 | J25: =Mena -> CZK
B26: Základní DPH | E26: =SazbaDPH2 -> 21 | F26: % | G26: =I25*E25/100 -> 0 | J26: =Mena -> CZK
A27: =ZakladDPHSni+ZakladDPHZakl -> 0 | B27: Zaokrouhlení | G27: =CenaCelkemBezDPH-(ZakladDPHSni+ZakladDPHZakl) -> 0 | J27: =Mena -> CZK
A28: =(A27-INT(A27))*100 -> 0 | B28: Cena celkem bez DPH | G28: =IF(A28>50, ROUNDUP(A27, 0), ROUNDDOWN(A27, 0)) -> 0 | J28: =Mena -> CZK
B29: Cena celkem s DPH | G29: =ZakladDPHSni+DPHSni+ZakladDPHZakl+DPHZakl+Zaokrouhleni -> 0 | J29: CZK
C32: v | F32: dne | H32: =TODAY() -> 43614
D35: Za zhotovitele | H35: Za objednatele
B37: Rekapitulace dílčích částí
A38: #CASTI>> | B38: Číslo | C38: Název | F38: =B23 -> Základ pro sníženou DPH | G38: =B25 -> Základ pro základní DPH | H38: DPH celkem | I38: Cena celkem | J38: %
A39: 1 | B39: Stavba | F39: ='01 1 Pol'!AE131+'01 2 Pol'!AE28+'01 3. Pol'!AE77 -> 0 | G39: ='01 1 Pol'!AF131+'01 2 Pol'!AF28+'01 3. Pol'!AF77 -> 0 | I39: =F39+G39+H39 -> 0 | J39: =IF(CenaCelkemVypocet=0,"",I39/CenaCelkemVypocet*100)
A40: 2 | B40: 01 | C40: SO 01 OBJEKT GYMNÁZIA | F40: ='01 1 Pol'!AE131+'01 2 Pol'!AE28+'01 3. Pol'!AE77 -> 0 | G40: ='01 1 Pol'!AF131+'01 2 Pol'!AF28+'01 3. Pol'!AF77 -> 0 | I40: =F40+G40+H40 -> 0 | J40: =IF(CenaCelkemVypocet=0,"",I40/CenaCelkemVypocet*100)
A41: 3 | B41: 1 | C41: šatna jih,posilovna,šatna sever,chodba,nářaďovna,atrium jih | F41: ='01 1 Pol'!AE131 -> 0 | G41: ='01 1 Pol'!AF131 -> 0 | I41: =F41+G41+H41 -> 0 | J41: =IF(CenaCelkemVypocet=0,"",I41/CenaCelkemVypocet*100)
A42: 3 | B42: 2 | C42: nářaďovna ,ATRIUM JIH nad nářaďovnou | F42: ='01 2 Pol'!AE28 -> 0 | G42: ='01 2 Pol'!AF28 -> 0 | I42: =F42+G42+H42 -> 0 | J42: =IF(CenaCelkemVypocet=0,"",I42/CenaCelkemVypocet*100)
A43: 3 | B43: 3. | C43: vnější sanace obvodového zdiva - východ | F43: ='01 3. Pol'!AE77 -> 0 | G43: ='01 3. Pol'!AF77 -> 0 | I43: =F43+G43+H43 -> 0 | J43: =IF(CenaCelkemVypocet=0,"",I43/CenaCelkemVypocet*100)
B44: Celkem za stavbu | F44: =SUMIF(A39:A43,"=1",F39:F43) -> 0 | G44: =SUMIF(A39:A43,"=1",G39:G43) -> 0 | H44: =SUMIF(A39:A43,"=1",H39:H43) -> 0 | I44: =SUMIF(A39:A43,"=1",I39:I43) -> 0 | J44: =SUMIF(A39:A43,"=1",J39:J43) -> 0
B48: Rekapitulace dílů
B50: Číslo | C50: Název | F50: Typ dílu | I50: Celkem | J50: %
B51: 1 | C51: Zemní práce | F51: HSV | I51: ='01 3. Pol'!G8 -> 0 | J51: =IF(I70=0,"",I51/I70*100)
B52: 2 | C52: Základy a zvláštní zakládání | F52: HSV | I52: ='01 3. Pol'!G36 -> 0 | J52: =IF(I70=0,"",I52/I70*100)
B53: 3 | C53: Svislé a kompletní konstrukce | F53: HSV | I53: ='01 3. Pol'!G48 -> 0 | J53: =IF(I70=0,"",I53/I70*100)
B54: 5 | C54: Komunikace | F54: HSV | I54: ='01 3. Pol'!G56 -> 0 | J54: =IF(I70=0,"",I54/I70*100)
...

Sheet VzorPolozky
A1: Položkový rozpočet
A2: S:
A3: O:
A4: R:

Sheet 01 1 Pol
A1: Položkový soupis prací a dodávek | AG1: #TypZaznamu#
A2: S: | B2: 2019/16-2 | C2: Dílčí stav.úpravy v objektu gymnázia SO 01 - vnitřní úpravy | AG2: STA
A3: O: | B3: 01 | C3: SO 01 OBJEKT GYMNÁZIA | AC3: STA | AG3: OBJ
A4: R: | B4: 1 | C4: šatna jih,posilovna,šatna sever,chodba,nářaďovna,atrium jih | AG4: ROZ
A6: P.č. | B6: Číslo položky | C6: Název položky | D6: MJ | E6: Množství | F6: Cena / MJ | G6: Celkem | H6: Dodávka | I6: Dodávka celk. | J6: Montáž | K6: Montáž celk. | L6: DPH | M6: Cena s DPH | N6: Hmotnost / MJ | O6: Hmotnost celk.(t) | P6: Dem. hmotnost / MJ | Q6: Dem. hmotnost celk.(t) | R6: Ceník | S6: Cen. soustava / platnost | T6: Cenová úroveň | U6: Nhod / MJ | V6: Nhod celk. | W6: Dodavatel | X6: Typ položky
A8: Díl: | B8: 96 | C8: Bourání konstrukcí | G8: =SUMIF(AG9:AG18,"<>NOR",G9:G18) -> 0 | I8: =SUM(I9:I18) -> 0 | K8: =SUM(K9:K18) -> 0 | M8: =SUM(M9:M18) -> 0 | O8: =SUM(O9:O18) -> 0 | Q8: =SUM(Q9:Q18) -> 20.57 | V8: =SUM(V9:V18) -> 69.74 | AG8: DIL
A9: 1 | B9: 978015291R00 | C9: Otlučení omítek vápenných nebo vápenocementových vnějších s vyškrabáním spár, s očištěním zdiva_x000D_ 1. až 4. stupni složitosti, v rozsahu do 100 % | D9: m2 | E9: 348.716 | G9: =ROUND(E9*F9,2) -> 0 | I9: =ROUND(E9*H9,2) -> 0 | K9: =ROUND(E9*J9,2) -> 0 | L9: 21 | M9: =G9*(1+L9/100) -> 0 | N9: 0 | O9: =ROUND(E9*N9,2) -> 0 | P9: 0.059 | Q9: =ROUND(E9*P9,2) -> 20.57 | R9: 801-3 | S9: RTS 19/ I | T9: Indiv | U9: 0.2 | V9: =ROUND(E9*U9,2) -> 69.74 | X9: Práce | AG9: POL1_
C10: šatna jih : 71,7*2,5 | E10: 179.25 | AG10: VV | AH10: 0
C11: šatna jih : -(0,97*0,76)*7 | E11: -5.1604 | AG11: VV | AH11: 0
C12: šatna jih : -1,29*2,14 | E12: -2.7606 | AG12: VV | AH12: 0
C13: posilovna : 31,48*2,5 | E13: 78.7 | AG13: VV | AH13: 0
C14: posilovna : -(0,95*0,76)*2 | E14: -1.444 | AG14: VV | AH14: 0
C15: posilovna : -0,9*1,97 | E15: -1.773 | AG15: VV | AH15: 0
C16: šatna sever : 42,18*2,5 | E16: 105.45 | AG16: VV | AH16: 0
C17: šatna sever : -(0,9*1,97)*2 | E17: -3.546 | AG17: VV | AH17: 0
AG18: SPU
A19: Díl: | B19: F0851 | C19: Elektroinstalace | G19: =SUMIF(AG20:AG21,"<>NOR",G20:G21) -> 0 | I19: =SUM(I20:I21) -> 0 | K19: =SUM(K20:K21) -> 0 | M19: =SUM(M20:M21) -> 0 | O19: =SUM(O20:O21) -> 0 | Q19: =SUM(Q20:Q21) -> 0 | V19: =SUM(V20:V21) -> 0 | AG19: DIL
A20: 2 | B20: 1 | C20: elektroinstalace KOMPLET Silnoproud+Slaboproud vč.zemních prací - VIZ.SAMOSTATNÝ VÝKAZ VÝMĚR | D20: kompl | E20: 1 | G20: =ROUND(E20*F20,2) -> 0 | I20: =ROUND(E20*H20,2) -> 0 | K20: =ROUND(E20*J20,2) -> 0 | L20: 21 | M20: =G20*(1+L20/100) -> 0 | N20: 0 | O20: =ROUND(E20*N20,2) -> 0 | P20: 0 | Q20: =ROUND(E20*P20,2) -> 0 | S20: Vlastní | T20: Indiv | U20: 0 | V20: =ROUND(E20*U20,2) -> 0 | X20: Práce | AG20: POL1_
AG21: SPU
A22: Díl: | B22: 96 | C22: Bourání konstrukcí | G22: =SUMIF(AG23:AG25,"<>NOR",G23:G25) -> 0 | I22: =SUM(I23:I25) -> 0 | K22: =SUM(K23:K25) -> 0 | M22: =SUM(M23:M25) -> 0 | O22: =SUM(O23:O25) -> 0 | Q22: =SUM(Q23:Q25) -> 0.13 | V22: =SUM(V23:V25) -> 1.66 | AG22: DIL
A23: 3 | B23: 968072455R00 | C23: Vybourání a vyjmutí kovových rámů a rolet rámů, včetně pomocného lešení o výšce podlahy do 1900 mm a pro zatížení do 1,5 kPa (150 kg/m2) dveřních zárubní, plochy do 2 m2 | D23: m2 | E23: 1.773 | G23: =ROUND(E23*F23,2) -> 0 | I23: =ROUND(E23*H23,2) -> 0 | K23: =ROUND(E23*J23,2) -> 0 | L23: 21 | M23: =G23*(1+L23/100) -> 0 | N23: 0.00117 | O23: =ROUND(E23*N23,2) -> 0 | P23: 0.076 | Q23: =ROUND(E23*P23,2) -> 0.13 | R23: 801-3 | S23: RTS 19/ I | T23: Kalkul | U23: 0.939 | V23: =ROUND(E23*U23,2) -> 1.66 | X23: Práce | AG23: POL1_
C24: 0,9*1,97 | E24: 1.773 | AG24: VV | AH24: 0
AG25: SPU
A26: Díl: | B26: D96 | C26: Přesuny suti a vybouraných hmot | G26: =SUMIF(AG27:AG37,"<>NOR",G27:G37) -> 0 | I26: =SUM(I27:I37) -> 0 | K26: =SUM(K27:K37) -> 0 | M26: =SUM(M27:M37) -> 0 | O26: =SUM(O27:O37) -> 0 | Q26: =SUM(Q27:Q37) -> 0 | V26: =SUM(V27:V37) -> 51.75 | AG26: DIL
A27: 4 | B27: 979082111R00 | C27: Vnitrostaveništní doprava suti a vybouraných hmot do 10 m | D27: t | E27: 20.84836 | G27: =ROUND(E27*F27,2) -> 0 | I27: =ROUND(E27*H27,2) -> 0 | K27: =ROUND(E27*J27,2) -> 0 | L27: 21 | M27: =G27*(1+L27/100) -> 0 | N27: 0 | O27: =ROUND(E27*N27,2) -> 0 | P27: 0 | Q27: =ROUND(E27*P27,2) -> 0 | R27: 801-3 | S27: RTS 19/ I | T27: Kalkul | U27: 0.942 | V27: =ROUND(E27*U27,2) -> 19.64 | X27: Práce | AG27: POL1_
AG28: SPU
A29: 5 | B29: 979082121R00 | C29: Vnitrostaveništní doprava suti a vybouraných hmot Příplatek k vnitrost. dopravě suti za dalších 5 m | D29: t | E29: 208.4836 | G29: =ROUND(E29*F29,2) -> 0 | I29: =ROUND(E29*H29,2) -> 0 | K29: =ROUND(E29*J29,2) -> 0 | L29: 21 | M29: =G29*(1+L29/100) -> 0 | N29: 0 | O29: =ROUND(E29*N29,2) -> 0 | P29: 0 | Q29: =ROUND(E29*P29,2) -> 0 | R29: 801-3 | S29: RTS 19/ I | T29: Kalkul | U29: 0.105 | V29: =ROUND(E29*U29,2) -> 21.89 | X29: Práce | AG29: POL1_
AG30: SPU
A31: 6 | B31: 979081111R00 | C31: Odvoz suti a vybouraných hmot na skládku do 1 km | D31: t | E31: 20.84836 | G31: =ROUND(E31*F31,2) -> 0 | I31: =ROUND(E31*H31,2) -> 0 | K31: =ROUND(E31*J31,2) -> 0 | L31: 21 | M31: =G31*(1+L31/100) -> 0 | N31: 0 | O31: =ROUND(E31*N31,2) -> 0 | P31: 0 | Q31: =ROUND(E31*P31,2) -> 0 | R31: 801-3 | S31: RTS 19/ I | T31: Kalkul | U31: 0.49 | V31: =ROUND(E31*U31,2) -> 10.22 | X31: Přesun suti | AG31: POL8_
C32: Včetně naložení na dopravní prostředek a složení na skládku, bez poplatku za skládku. | AG32: POP
AG33: SPU
A34: 7 | B34: 979081121R00 | C34: Odvoz suti a vybouraných hmot na skládku Příplatek k odvozu za každý další 1 km | D34: t | E34: 208.4836 | G34: =ROUND(E34*F34,2) -> 0 | I34: =ROUND(E34*H34,2) -> 0 | K34: =ROUND(E34*J34,2) -> 0 | L34: 21 | M34: =G34*(1+L34/100) -> 0 | N34: 0 | O34: =ROUND(E34*N34,2) -> 0 | P34: 0 | Q34: =ROUND(E34*P34,2) -> 0 | R34: 801-3 | S34: RTS 19/ I | T34: Kalkul | U34: 0 | V34: =ROUND(E34*U34,2) -> 0 | X34: Práce | AG34: POL1_
AG35: SPU
A36: 8 | B36: 979990001R00 | C36: Poplatek za skládku stavební suti | D36: t | E36: 20.84836 | G36: =ROUND(E36*F36,2) -> 0 | I36: =ROUND(E36*H36,2) -> 0 | K36: =ROUND(E36*J36,2) -> 0 | L36: 21 | M36: =G36*(1+L36/100) -> 0 | N36: 0 | O36: =ROUND(E36*N36,2) -> 0 | P36: 0 | Q36: =ROUND(E36*P36,2) -> 0 | R36: 801-3 | S36: RTS 19/ I | T36: Kalkul | U36: 0 | V36: =ROUND(E36*U36,2) -> 0 | X36: Práce | AG36: POL1_
AG37: SPU
A38: Díl: | B38: 6 | C38: Úpravy povrchu, podlahy | G38: =SUMIF(AG39:AG42,"<>NOR",G39:G42) -> 0 | I38: =SUM(I39:I42) -> 0 | K38: =SUM(K39:K42) -> 0 | M38: =SUM(M39:M42) -> 0 | O38: =SUM(O39:O42) -> 0.02 | Q38: =SUM(Q39:Q42) -> 0 | V38: =SUM(V39:V42) -> 7.32 | AG38: DIL
A39: 9 | B39: 602022191R00 | C39: Omítka stěn z hotových směsí Doplňkové práce pro omítky stěn z hotových směsí_x000D_ nátěr penetrační, kontaktní, s granulátem | D39: m2 | E39: 104.6148 | G39: =ROUND(E39*F39,2) -> 0 | I39: =ROUND(E39*H39,2) -> 0 | K39: =ROUND(E39*J39,2) -> 0 | L39: 21 | M39: =G39*(1+L39/100) -> 0 | N39: 0.00023 | O39: =ROUND(E39*N39,2) -> 0.02 | P39: 0 | Q39: =ROUND(E39*P39,2) -> 0 | R39: 801-1 | S39: RTS 19/ I | T39: Kalkul | U39: 0.07 | V39: =ROUND(E39*U39,2) -> 7.32 | X39: Práce | AG39: POL1_
C40: po jednotlivých vrstvách | AG40: SPI
C41: 348,716*0,3 | E41: 104.6148 | AG41: VV | AH41: 0
AG42: SPU
...

Sheet 01 2 Pol
A1: Položkový soupis prací a dodávek | AG1: #TypZaznamu#
A2: S: | B2: 2019/16-2 | C2: Dílčí stav.úpravy v objektu gymnázia SO 01 - vnitřní úpravy | AG2: STA
A3: O: | B3: 01 | C3: SO 01 OBJEKT GYMNÁZIA | AC3: STA | AG3: OBJ
A4: R: | B4: 2 | C4: nářaďovna ,ATRIUM JIH nad nářaďovnou | AG4: ROZ
A6: P.č. | B6: Číslo položky | C6: Název položky | D6: MJ | E6: Množství | F6: Cena / MJ | G6: Celkem | H6: Dodávka | I6: Dodávka celk. | J6: Montáž | K6: Montáž celk. | L6: DPH | M6: Cena s DPH | N6: Hmotnost / MJ | O6: Hmotnost celk.(t) | P6: Dem. hmotnost / MJ | Q6: Dem. hmotnost celk.(t) | R6: Ceník | S6: Cen. soustava / platnost | T6: Cenová úroveň | U6: Nhod / MJ | V6: Nhod celk. | W6: Dodavatel | X6: Typ položky
A8: Díl: | B8: 63 | C8: Podlahy a podlahové konstrukce | G8: =SUMIF(AG9:AG14,"<>NOR",G9:G14) -> 0 | I8: =SUM(I9:I14) -> 0 | K8: =SUM(K9:K14) -> 0 | M8: =SUM(M9:M14) -> 0 | O8: =SUM(O9:O14) -> 0.06 | Q8: =SUM(Q9:Q14) -> 9.1 | V8: =SUM(V9:V14) -> 51.45 | AG8: DIL
A9: 1 | B9: 632922953R00 | C9: Kladení dlaždic na terče - podložky podstavce výškově stavitelné dlaždice 500 x 500 mm, výškově stavitelné podstavce 35-55 mm | D9: m2 | E9: 65.96 | G9: =ROUND(E9*F9,2) -> 0 | I9: =ROUND(E9*H9,2) -> 0 | K9: =ROUND(E9*J9,2) -> 0 | L9: 21 | M9: =G9*(1+L9/100) -> 0 | N9: 0.00084 | O9: =ROUND(E9*N9,2) -> 0.06 | P9: 0 | Q9: =ROUND(E9*P9,2) -> 0 | R9: 801-1 | S9: RTS 19/ I | T9: Indiv | U9: 0.62 | V9: =ROUND(E9*U9,2) -> 40.9 | X9: Práce | AG9: POL1_1
AG10: SPU
A11: 2 | B11: 113106121-1 | C11: Rozebrání dlažeb venkovních pro zpětnou montáž,úprava podloží | D11: m2 | E11: 65.96 | G11: =ROUND(E11*F11,2) -> 0 | I11: =ROUND(E11*H11,2) -> 0 | K11: =ROUND(E11*J11,2) -> 0 | L11: 21 | M11: =G11*(1+L11/100) -> 0 | N11: 0 | O11: =ROUND(E11*N11,2) -> 0 | P11: 0.138 | Q11: =ROUND(E11*P11,2) -> 9.1 | S11: Vlastní | T11: Indiv | U11: 0.16 | V11: =ROUND(E11*U11,2) -> 10.55 | X11: Práce | AG11: POL1_
AG12: SPU
A13: 3 | B13: 63002 | C13: D+M soklové začišťovací lišty pro dlažbu do terčů | D13: m | E13: 20 | G13: =ROUND(E13*F13,2) -> 0 | I13: =ROUND(E13*H13,2) -> 0 | K13: =ROUND(E13*J13,2) -> 0 | L13: 21 | M13: =G13*(1+L13/100) -> 0 | N13: 0 | O13: =ROUND(E13*N13,2) -> 0 | P13: 0 | Q13: =ROUND(E13*P13,2) -> 0 | S13: Vlastní | T13: Indiv | U13: 0 | V13: =ROUND(E13*U13,2) -> 0 | X13: Práce | AG13: POL1_
AG14: SPU
A15: Díl: | B15: 721 | C15: Vnitřní kanalizace | G15: =SUMIF(AG16:AG26,"<>NOR",G16:G26) -> 0 | I15: =SUM(I16:I26) -> 0 | K15: =SUM(K16:K26) -> 0 | M15: =SUM(M16:M26) -> 0 | O15: =SUM(O16:O26) -> 0.09 | Q15: =SUM(Q16:Q26) -> 0.08 | V15: =SUM(V16:V26) -> 4.31 | AG15: DIL
A16: 4 | B16: 721211520R00 | C16: Vpusti dvorní průměr 110 mm, se zápachovou klapkou, s plastovým rámem 240 x 240 mm, litinovou mříží a odkalovacím košem, suchá klapka proti pronikání zápachu , včetně dodávky materiálu | D16: kus | E16: 1 | G16: =ROUND(E16*F16,2) -> 0 | I16: =ROUND(E16*H16,2) -> 0 | K16: =ROUND(E16*J16,2) -> 0 | L16: 21 | M16: =G16*(1+L16/100) -> 0 | N16: 0.08198 | O16: =ROUND(E16*N16,2) -> 0.08 | P16: 0 | Q16: =ROUND(E16*P16,2) -> 0 | R16: 800-721 | S16: RTS 19/ I | T16: Indiv | U16: 0.3 | V16: =ROUND(E16*U16,2) -> 0.3 | X16: Práce | AG16: POL1_
C17: včetně betonového lože | AG17: SPI
AG18: SPU
A19: 5 | B19: 721-1 | C19: Demontáž potrubí dešťového svodu | D19: m | E19: 1.5 | G19: =ROUND(E19*F19,2) -> 0 | I19: =ROUND(E19*H19,2) -> 0 | K19: =ROUND(E19*J19,2) -> 0 | L19: 21 | M19: =G19*(1+L19/100) -> 0 | N19: 0 | O19: =ROUND(E19*N19,2) -> 0 | P19: 0.00198 | Q19: =ROUND(E19*P19,2) -> 0 | S19: Vlastní | T19: Indiv | U19: 0.083 | V19: =ROUND(E19*U19,2) -> 0.12 | X19: Práce | AG19: POL1_
AG20: SPU
A21: 6 | B21: 721-2 | C21: Demontáž dvorní vpusti + zabetonování otvoru | D21: kus | E21: 1 | G21: =ROUND(E21*F21,2) -> 0 | I21: =ROUND(E21*H21,2) -> 0 | K21: =ROUND(E21*J21,2) -> 0 | L21: 21 | M21: =G21*(1+L21/100) -> 0 | N21: 0 | O21: =ROUND(E21*N21,2) -> 0 | P21: 0.082 | Q21: =ROUND(E21*P21,2) -> 0.08 | S21: Vlastní | T21: Indiv | U21: 0.63 | V21: =ROUND(E21*U21,2) -> 0.63 | X21: Práce | AG21: POL1_
AG22: SPU
A23: 7 | B23: 721-3 | C23: Potrubí KG dešťové | D23: m | E23: 7.5 | G23: =ROUND(E23*F23,2) -> 0 | I23: =ROUND(E23*H23,2) -> 0 | K23: =ROUND(E23*J23,2) -> 0 | L23: 21 | M23: =G23*(1+L23/100) -> 0 | N23: 0.00199 | O23: =ROUND(E23*N23,2) -> 0.01 | P23: 0 | Q23: =ROUND(E23*P23,2) -> 0 | S23: Vlastní | T23: Indiv | U23: 0.4349 | V23: =ROUND(E23*U23,2) -> 3.26 | X23: Práce | AG23: POL1_
C24: Potrubí včetně tvarovek, objímek a vložek pro tlumení hluku. Bez zednických výpomocí. | AG24: POP
C25: Včetně zřízení a demontáže pomocného lešení. | AG25: POP
AG26: SPU
AE27: 15 | AF27: 21
B28: Celkem | G28: =G8+G15 -> 0 | AE28: =SUMIF(L7:L26,AE27,G7:G26) -> 0 | AF28: =SUMIF(L7:L26,AF27,G7:G26) -> 0 | AG28: SUM
AG29: END

Sheet 01 3. Pol
A1: Položkový soupis prací a dodávek | AG1: #TypZaznamu#
A2: S: | B2: 2019/16-2 | C2: Dílčí stav.úpravy v objektu gymnázia SO 01 - vnitřní úpravy | AG2: STA
A3: O: | B3: 01 | C3: SO 01 OBJEKT GYMNÁZIA | AC3: STA | AG3: OBJ
A4: R: | B4: 3. | C4: vnější sanace obvodového zdiva - východ | AG4: ROZ
A6: P.č. | B6: Číslo položky | C6: Název položky | D6: MJ | E6: Množství | F6: Cena / MJ | G6: Celkem | H6: Dodávka | I6: Dodávka celk. | J6: Montáž | K6: Montáž celk. | L6: DPH | M6: Cena s DPH | N6: Hmotnost / MJ | O6: Hmotnost celk.(t) | P6: Dem. hmotnost / MJ | Q6: Dem. hmotnost celk.(t) | R6: Ceník | S6: Cen. soustava / platnost | T6: Cenová úroveň | U6: Nhod / MJ | V6: Nhod celk. | W6: Dodavatel | X6: Typ položky
A8: Díl: | B8: 1 | C8: Zemní práce | G8: =SUMIF(AG9:AG35,"<>NOR",G9:G35) -> 0 | I8: =SUM(I9:I35) -> 0 | K8: =SUM(K9:K35) -> 0 | M8: =SUM(M9:M35) -> 0 | O8: =SUM(O9:O35) -> 0 | Q8: =SUM(Q9:Q35) -> 14.4 | V8: =SUM(V9:V35) -> 45.17 | AG8: DIL
A9: 1 | B9: 111201101R00 | C9: Odstranění křovin a stromů o průměru do 10 cm při celkové ploše do 1 000 m2 | D9: m2 | E9: 10 | G9: =ROUND(E9*F9,2) -> 0 | I9: =ROUND(E9*H9,2) -> 0 | K9: =ROUND(E9*J9,2) -> 0 | L9: 21 | M9: =G9*(1+L9/100) -> 0 | N9: 0 | O9: =ROUND(E9*N9,2) -> 0 | P9: 0 | Q9: =ROUND(E9*P9,2) -> 0 | R9: 800-1 | S9: RTS 19/ I | T9: Kalkul | U9: 0.172 | V9: =ROUND(E9*U9,2) -> 1.72 | X9: Práce | AG9: POL1_
C10: s odstraněním kořenů a s případným nutným odklizením křovin a stromů na hromady na vzdálenost do 50 m nebo s naložením na dopravní prostředek, do sklonu terénu 1 : 5, | AG10: SPI | BA10: =C10 -> s odstraněním kořenů a s případným nutným odklizením křovin a stromů na hromady na vzdálenost do 50 m nebo s naložením na dopravní prostředek, do sklonu terénu 1 : 5,
AG11: SPU
A12: 2 | B12: 113105111R00 | C12: Rozebrání dlažeb z lomového kamene kladených na sucho | D12: m2 | E12: 30 | G12: =ROUND(E12*F12,2) -> 0 | I12: =ROUND(E12*H12,2) -> 0 | K12: =ROUND(E12*J12,2) -> 0 | L12: 21 | M12: =G12*(1+L12/100) -> 0 | N12: 0 | O12: =ROUND(E12*N12,2) -> 0 | P12: 0.48 | Q12: =ROUND(E12*P12,2) -> 14.4 | R12: 822-1 | S12: RTS 19/ I | T12: Kalkul | U12: 0.306 | V12: =ROUND(E12*U12,2) -> 9.18 | X12: Práce | AG12: POL1_
C13: s přemístěním hmot na skládku na vzdálenost do 3 m nebo s naložením na dopravní prostředek, | AG13: SPI
C14: okapový chodník : 50*0,6 | E14: 30 | AG14: VV | AH14: 0
AG15: SPU
A16: 3 | B16: 130001101R00 | C16: Příplatek k cenám za ztížené vykopávky v horninách jakékoliv třídy | D16: m3 | E16: 2.25 | G16: =ROUND(E16*F16,2) -> 0 | I16: =ROUND(E16*H16,2) -> 0 | K16: =ROUND(E16*J16,2) -> 0 | L16: 21 | M16: =G16*(1+L16/100) -> 0 | N16: 0 | O16: =ROUND(E16*N16,2) -> 0 | P16: 0 | Q16: =ROUND(E16*P16,2) -> 0 | R16: 800-1 | S16: RTS 19/ I | T16: Kalkul | U16: 1.763 | V16: =ROUND(E16*U16,2) -> 3.97 | X16: Práce | AG16: POL1_
C17: Příplatek k cenám hloubených vykopávek za ztížení vykopávky v blízkosti podzemního vedení nebo výbušnin pro jakoukoliv třídu horniny. | AG17: SPI | BA17: =C17 -> Příplatek k cenám hloubených vykopávek za ztížení vykopávky v blízkosti podzemního vedení nebo výbušnin pro jakoukoliv třídu horniny.
AG18: SPU
A19: 4 | B19: 132101211R00 | C19: Hloubení rýh šířky přes 60 do 200 cm do 100 m3, v hornině 1-2, hloubení strojně | D19: m3 | E19: 100 | G19: =ROUND(E19*F19,2) -> 0 | I19: =ROUND(E19*H19,2) -> 0 | K19: =ROUND(E19*J19,2) -> 0 | L19: 21 | M19: =G19*(1+L19/100) -> 0 | N19: 0 | O19: =ROUND(E19*N19,2) -> 0 | P19: 0 | Q19: =ROUND(E19*P19,2) -> 0 | R19: 800-1 | S19: RTS 19/ I | T19: Kalkul | U19: 0.18 | V19: =ROUND(E19*U19,2) -> 18 | X19: Práce | AG19: POL1_
C20: zapažených i nezapažených, s urovnáním dna do předepsaného profilu a spádu, s případně nutným přehozením výkopku na vzdálenost do 3 m ve výkopišti, s přehozením výkopku na přilehlém terénu na vzdálenost do 5 m od podélné osy rýhy nebo s naložením výkopku na dopravní prostředek. | AG20: SPI | BA20: =C20 -> zapažených i nezapažených, s urovnáním dna do předepsaného profilu a spádu, s případně nutným přehozením výkopku na vzdálenost do 3 m ve výkopišti, s přehozením výkopku na přilehlém terénu na vzdálenost do 5 m od podélné osy rýhy nebo s naložením výkopku na dopravní prostředek.
C21: výkop pro drenáž :délka objektu x 2m3/m : 50*2 | E21: 100 | AG21: VV | AH21: 0
AG22: SPU
A23: 5 | B23: 162701105R00 | C23: Vodorovné přemístění výkopku z horniny 1 až 4, na vzdálenost přes 9 000 do 10 000 m | D23: m3 | E23: 100 | G23: =ROUND(E23*F23,2) -> 0 | I23: =ROUND(E23*H23,2) -> 0 | K23: =ROUND(E23*J23,2) -> 0 | L23: 21 | M23: =G23*(1+L23/100) -> 0 | N23: 0 | O23: =ROUND(E23*N23,2) -> 0 | P23: 0 | Q23: =ROUND(E23*P23,2) -> 0 | R23: 800-1 | S23: RTS 19/ I | T23: Kalkul | U23: 0.011 | V23: =ROUND(E23*U23,2) -> 1.1 | X23: Práce | AG23: POL1_
C24: po suchu, bez naložení výkopku, avšak se složením bez rozhrnutí, zpáteční cesta vozidla. | AG24: SPI
AG25: SPU
A26: 6 | B26: 162301501R00 | C26: Vodorovné přemístění křovin nma vzdálenost do 5 000 m | D26: m2 | E26: 10 | G26: =ROUND(E26*F26,2) -> 0 | I26: =ROUND(E26*H26,2) -> 0 | K26: =ROUND(E26*J26,2) -> 0 | L26: 21 | M26: =G26*(1+L26/100) -> 0 | N26: 0 | O26: =ROUND(E26*N26,2) -> 0 | P26: 0 | Q26: =ROUND(E26*P26,2) -> 0 | R26: 800-1 | S26: RTS 19/ I | T26: Kalkul | U26: 0 | V26: =ROUND(E26*U26,2) -> 0 | X26: Práce | AG26: POL1_
C27: o průměru kmene do 10 cm na vzdálenost, složení z dopravního porstředku. | AG27: SPI
AG28: SPU
A29: 7 | B29: 171201201R00 | C29: Uložení sypaniny na dočasnou skládku tak, že na 1 m2 plochy připadá přes 2 m3 výkopku nebo ornice | D29: m3 | E29: 100 | G29: =ROUND(E29*F29,2) -> 0 | I29: =ROUND(E29*H29,2) -> 0 | K29: =ROUND(E29*J29,2) -> 0 | L29: 21 | M29: =G29*(1+L29/100) -> 0 | N29: 0 | O29: =ROUND(E29*N29,2) -> 0 | P29: 0 | Q29: =ROUND(E29*P29,2) -> 0 | R29: 800-1 | S29: RTS 19/ I | T29: Kalkul | U29: 0.009 | V29: =ROUND(E29*U29,2) -> 0.9 | X29: Práce | AG29: POL1_
AG30: SPU
A31: 8 | B31: 181300010RAD | C31: Rozprostření ornice v rovině nebo svahu do 1 : 5 a osetí travou při tloušťce 150 mm, dovoz ornice ze vzdálenosti 10 000 m | D31: m2 | E31: 40 | G31: =ROUND(E31*F31,2) -> 0 | I31: =ROUND(E31*H31,2) -> 0 | K31: =ROUND(E31*J31,2) -> 0 | L31: 21 | M31: =G31*(1+L31/100) -> 0 | N31: 3e-05 | O31: =ROUND(E31*N31,2) -> 0 | P31: 0 | Q31: =ROUND(E31*P31,2) -> 0 | R31: AP-HSV | S31: RTS 19/ I | T31: Kalkul | U31: 0.25752 | V31: =ROUND(E31*U31,2) -> 10.3 | X31: Agregovaná položka | AG31: POL2_
C32: vč. urovnání ornice, naložení na skládce, vodorovným přemístěním ornice na místo rozprostření, založení trávníku osetím a dodávky travního semene. | AG32: SPI | BA32: =C32 -> vč. urovnání ornice, naložení na skládce, vodorovným přemístěním ornice na místo rozprostření, založení trávníku osetím a dodávky travního semene.
C33: Včetně přesunu hmot. | AG33: POP
C34: 50*0,8 | E34: 40 | AG34: VV | AH34: 0
AG35: SPU
A36: Díl: | B36: 2 | C36: Základy a zvláštní zakládání | G36: =SUMIF(AG37:AG47,"<>NOR",G37:G47) -> 0 | I36: =SUM(I37:I47) -> 0 | K36: =SUM(K37:K47) -> 0 | M36: =SUM(M37:M47) -> 0 | O36: =SUM(O37:O47) -> 152.62 | Q36: =SUM(Q37:Q47) -> 0 | V36: =SUM(V37:V47) -> 113.26 | AG36: DIL
A37: 9 | B37: 212531111R00 | C37: Výplň trativodů kamenivem hrubým drceným, frakce 16-63 mm | D37: m3 | E37: 80 | G37: =ROUND(E37*F37,2) -> 0 | I37: =ROUND(E37*H37,2) -> 0 | K37: =ROUND(E37*J37,2) -> 0 | L37: 21 | M37: =G37*(1+L37/100) -> 0 | N37: 1.63 | O37: =ROUND(E37*N37,2) -> 130.4 | P37: 0 | Q37: =ROUND(E37*P37,2) -> 0 | R37: 800-2 | S37: RTS 19/ I | T37: Kalkul | U37: 0.92 | V37: =ROUND(E37*U37,2) -> 73.6 | X37: Práce | AG37: POL1_
C38: do rýh bez zhutnění s úpravou povrchu výplně, | AG38: SPI
C39: výkop: : 100 | E39: 100 | AG39: VV | AH39: 0
C40: zemina na zatravnění: : -8 | E40: -8 | AG40: VV | AH40: 0
C41: drenáž vč.opsypu: : -12 | E41: -12 | AG41: VV | AH41: 0
AG42: SPU
...
